BEGIN:VCALENDAR
VERSION:2.0
PRODID:-//Debtors Anonymous UK - ECPv6.0.5//NONSGML v1.0//EN
CALSCALE:GREGORIAN
METHOD:PUBLISH
X-WR-CALNAME:Debtors Anonymous UK
X-ORIGINAL-URL:https://debtorsanonymous.org.uk
X-WR-CALDESC:Events for Debtors Anonymous UK
REFRESH-INTERVAL;VALUE=DURATION:PT1H
X-Robots-Tag:noindex
X-PUBLISHED-TTL:PT1H
BEGIN:VTIMEZONE
TZID:Europe/London
BEGIN:DAYLIGHT
TZOFFSETFROM:+0000
TZOFFSETTO:+0100
TZNAME:BST
DTSTART:20260329T010000
END:DAYLIGHT
BEGIN:STANDARD
TZOFFSETFROM:+0100
TZOFFSETTO:+0000
TZNAME:GMT
DTSTART:20261025T010000
END:STANDARD
END:VTIMEZONE
BEGIN:VEVENT
DTSTART;TZID=Europe/London:20260607T180000
DTEND;TZID=Europe/London:20260607T190000
DTSTAMP:20260421T233549
CREATED:20230107T100140Z
LAST-MODIFIED:20260421T092456Z
UID:49217-1780855200-1780858800@debtorsanonymous.org.uk
SUMMARY:Visibility and Vulnerability in BDA/DA
DESCRIPTION:Join Zoom Meeting \nMany of us debtors have discovered that visibility and vulnerability is at the root of our debting disease. \nWe fear the reaction of the world as a consequence of putting ourselves out there and thereby exposing our visibility and vulnerability. \nHence we decrease the opportunities there are to create and attract prosperity into our lives as we default to remaining invisible and invulnerable.
URL:https://debtorsanonymous.org.uk/meeting/visibility-and-vulnerability-in-bda-da/2026-06-07/
CATEGORIES:Online Meetings
END:VEVENT
BEGIN:VEVENT
DTSTART;TZID=Europe/London:20260614T180000
DTEND;TZID=Europe/London:20260614T190000
DTSTAMP:20260421T233549
CREATED:20230107T100140Z
LAST-MODIFIED:20260421T092458Z
UID:49299-1781460000-1781463600@debtorsanonymous.org.uk
SUMMARY:Visibility and Vulnerability in BDA/DA
DESCRIPTION:Join Zoom Meeting \nMany of us debtors have discovered that visibility and vulnerability is at the root of our debting disease. \nWe fear the reaction of the world as a consequence of putting ourselves out there and thereby exposing our visibility and vulnerability. \nHence we decrease the opportunities there are to create and attract prosperity into our lives as we default to remaining invisible and invulnerable.
URL:https://debtorsanonymous.org.uk/meeting/visibility-and-vulnerability-in-bda-da/2026-06-14/
CATEGORIES:Online Meetings
END:VEVENT
BEGIN:VEVENT
DTSTART;TZID=Europe/London:20260621T180000
DTEND;TZID=Europe/London:20260621T190000
DTSTAMP:20260421T233549
CREATED:20230107T100140Z
LAST-MODIFIED:20260421T092459Z
UID:49372-1782064800-1782068400@debtorsanonymous.org.uk
SUMMARY:Visibility and Vulnerability in BDA/DA
DESCRIPTION:Join Zoom Meeting \nMany of us debtors have discovered that visibility and vulnerability is at the root of our debting disease. \nWe fear the reaction of the world as a consequence of putting ourselves out there and thereby exposing our visibility and vulnerability. \nHence we decrease the opportunities there are to create and attract prosperity into our lives as we default to remaining invisible and invulnerable.
URL:https://debtorsanonymous.org.uk/meeting/visibility-and-vulnerability-in-bda-da/2026-06-21/
CATEGORIES:Online Meetings
END:VEVENT
BEGIN:VEVENT
DTSTART;TZID=Europe/London:20260628T180000
DTEND;TZID=Europe/London:20260628T190000
DTSTAMP:20260421T233549
CREATED:20230107T100140Z
LAST-MODIFIED:20260421T092500Z
UID:49444-1782669600-1782673200@debtorsanonymous.org.uk
SUMMARY:Visibility and Vulnerability in BDA/DA
DESCRIPTION:Join Zoom Meeting \nMany of us debtors have discovered that visibility and vulnerability is at the root of our debting disease. \nWe fear the reaction of the world as a consequence of putting ourselves out there and thereby exposing our visibility and vulnerability. \nHence we decrease the opportunities there are to create and attract prosperity into our lives as we default to remaining invisible and invulnerable.
URL:https://debtorsanonymous.org.uk/meeting/visibility-and-vulnerability-in-bda-da/2026-06-28/
CATEGORIES:Online Meetings
END:VEVENT
END:VCALENDAR