BEGIN:VCALENDAR
VERSION:2.0
PRODID:-//Debtors Anonymous UK - ECPv6.0.5//NONSGML v1.0//EN
CALSCALE:GREGORIAN
METHOD:PUBLISH
X-ORIGINAL-URL:https://debtorsanonymous.org.uk
X-WR-CALDESC:Events for Debtors Anonymous UK
REFRESH-INTERVAL;VALUE=DURATION:PT1H
X-Robots-Tag:noindex
X-PUBLISHED-TTL:PT1H
BEGIN:VTIMEZONE
TZID:Europe/London
BEGIN:DAYLIGHT
TZOFFSETFROM:+0000
TZOFFSETTO:+0100
TZNAME:BST
DTSTART:20250330T010000
END:DAYLIGHT
BEGIN:STANDARD
TZOFFSETFROM:+0100
TZOFFSETTO:+0000
TZNAME:GMT
DTSTART:20251026T010000
END:STANDARD
END:VTIMEZONE
BEGIN:VEVENT
DTSTART;TZID=Europe/London:20251102T180000
DTEND;TZID=Europe/London:20251102T190000
DTSTAMP:20260422T045014
CREATED:20230107T100140Z
LAST-MODIFIED:20260421T092440Z
UID:44320-1762106400-1762110000@debtorsanonymous.org.uk
SUMMARY:Visibility and Vulnerability in BDA/DA
DESCRIPTION:Join Zoom Meeting \nMany of us debtors have discovered that visibility and vulnerability is at the root of our debting disease. \nWe fear the reaction of the world as a consequence of putting ourselves out there and thereby exposing our visibility and vulnerability. \nHence we decrease the opportunities there are to create and attract prosperity into our lives as we default to remaining invisible and invulnerable.
URL:https://debtorsanonymous.org.uk/meeting/visibility-and-vulnerability-in-bda-da/2025-11-02/
CATEGORIES:Online Meetings
END:VEVENT
BEGIN:VEVENT
DTSTART;TZID=Europe/London:20251109T180000
DTEND;TZID=Europe/London:20251109T190000
DTSTAMP:20260422T045014
CREATED:20230107T100140Z
LAST-MODIFIED:20260421T092441Z
UID:44395-1762711200-1762714800@debtorsanonymous.org.uk
SUMMARY:Visibility and Vulnerability in BDA/DA
DESCRIPTION:Join Zoom Meeting \nMany of us debtors have discovered that visibility and vulnerability is at the root of our debting disease. \nWe fear the reaction of the world as a consequence of putting ourselves out there and thereby exposing our visibility and vulnerability. \nHence we decrease the opportunities there are to create and attract prosperity into our lives as we default to remaining invisible and invulnerable.
URL:https://debtorsanonymous.org.uk/meeting/visibility-and-vulnerability-in-bda-da/2025-11-09/
CATEGORIES:Online Meetings
END:VEVENT
BEGIN:VEVENT
DTSTART;TZID=Europe/London:20251116T180000
DTEND;TZID=Europe/London:20251116T190000
DTSTAMP:20260422T045014
CREATED:20230107T100140Z
LAST-MODIFIED:20260421T092441Z
UID:44471-1763316000-1763319600@debtorsanonymous.org.uk
SUMMARY:Visibility and Vulnerability in BDA/DA
DESCRIPTION:Join Zoom Meeting \nMany of us debtors have discovered that visibility and vulnerability is at the root of our debting disease. \nWe fear the reaction of the world as a consequence of putting ourselves out there and thereby exposing our visibility and vulnerability. \nHence we decrease the opportunities there are to create and attract prosperity into our lives as we default to remaining invisible and invulnerable.
URL:https://debtorsanonymous.org.uk/meeting/visibility-and-vulnerability-in-bda-da/2025-11-16/
CATEGORIES:Online Meetings
END:VEVENT
BEGIN:VEVENT
DTSTART;TZID=Europe/London:20251123T180000
DTEND;TZID=Europe/London:20251123T190000
DTSTAMP:20260422T045014
CREATED:20230107T100140Z
LAST-MODIFIED:20260421T092442Z
UID:44546-1763920800-1763924400@debtorsanonymous.org.uk
SUMMARY:Visibility and Vulnerability in BDA/DA
DESCRIPTION:Join Zoom Meeting \nMany of us debtors have discovered that visibility and vulnerability is at the root of our debting disease. \nWe fear the reaction of the world as a consequence of putting ourselves out there and thereby exposing our visibility and vulnerability. \nHence we decrease the opportunities there are to create and attract prosperity into our lives as we default to remaining invisible and invulnerable.
URL:https://debtorsanonymous.org.uk/meeting/visibility-and-vulnerability-in-bda-da/2025-11-23/
CATEGORIES:Online Meetings
END:VEVENT
BEGIN:VEVENT
DTSTART;TZID=Europe/London:20251130T180000
DTEND;TZID=Europe/London:20251130T190000
DTSTAMP:20260422T045014
CREATED:20230107T100140Z
LAST-MODIFIED:20260421T092442Z
UID:44721-1764525600-1764529200@debtorsanonymous.org.uk
SUMMARY:Visibility and Vulnerability in BDA/DA
DESCRIPTION:Join Zoom Meeting \nMany of us debtors have discovered that visibility and vulnerability is at the root of our debting disease. \nWe fear the reaction of the world as a consequence of putting ourselves out there and thereby exposing our visibility and vulnerability. \nHence we decrease the opportunities there are to create and attract prosperity into our lives as we default to remaining invisible and invulnerable.
URL:https://debtorsanonymous.org.uk/meeting/visibility-and-vulnerability-in-bda-da/2025-11-30/
CATEGORIES:Online Meetings
END:VEVENT
END:VCALENDAR