BEGIN:VCALENDAR
VERSION:2.0
PRODID:-//Debtors Anonymous UK - ECPv6.0.5//NONSGML v1.0//EN
CALSCALE:GREGORIAN
METHOD:PUBLISH
X-WR-CALNAME:Debtors Anonymous UK
X-ORIGINAL-URL:https://debtorsanonymous.org.uk
X-WR-CALDESC:Events for Debtors Anonymous UK
REFRESH-INTERVAL;VALUE=DURATION:PT1H
X-Robots-Tag:noindex
X-PUBLISHED-TTL:PT1H
BEGIN:VTIMEZONE
TZID:Europe/London
BEGIN:DAYLIGHT
TZOFFSETFROM:+0000
TZOFFSETTO:+0100
TZNAME:BST
DTSTART:20260329T010000
END:DAYLIGHT
BEGIN:STANDARD
TZOFFSETFROM:+0100
TZOFFSETTO:+0000
TZNAME:GMT
DTSTART:20261025T010000
END:STANDARD
END:VTIMEZONE
BEGIN:VEVENT
DTSTART;TZID=Europe/London:20260511T183000
DTEND;TZID=Europe/London:20260511T193000
DTSTAMP:20260423T192704
CREATED:20220207T202011Z
LAST-MODIFIED:20220207T202011Z
UID:48729-1778524200-1778527800@debtorsanonymous.org.uk
SUMMARY:DA Meeting: Galway
DESCRIPTION:** waiting for an update on the status of this meeting **\nDA Ireland phone number: 00 353 (0) 86 408 4468 \nOriginally: Gallilee House\, Rear of Salthill Church Carpark\, Salthill\, Galway
URL:https://debtorsanonymous.org.uk/meeting/da-meeting-galway/2026-05-11/
CATEGORIES:Meetings outside London
END:VEVENT
BEGIN:VEVENT
DTSTART;TZID=Europe/London:20260511T183000
DTEND;TZID=Europe/London:20260511T193000
DTSTAMP:20260423T192704
CREATED:20251127T113720Z
LAST-MODIFIED:20251201T214813Z
UID:53395-1778524200-1778527800@debtorsanonymous.org.uk
SUMMARY:DA Hastings (In-person)
DESCRIPTION:In person -closed meeting.\n\nNewcomers welcome.\n\nPlease bring cash for the 7th Tradition until further notice.\n\nQuaker Meeting House\n5 South Terrace\nHastings East Sussex TN34 1SA UK
URL:https://debtorsanonymous.org.uk/meeting/da-hastings-in-person/2026-05-11/
CATEGORIES:Meetings outside London
END:VEVENT
BEGIN:VEVENT
DTSTART;TZID=Europe/London:20260511T190000
DTEND;TZID=Europe/London:20260511T190000
DTSTAMP:20260423T192704
CREATED:20240604T101450Z
LAST-MODIFIED:20240604T101450Z
UID:48723-1778526000-1778526000@debtorsanonymous.org.uk
SUMMARY:Westcott Debtors Anonymous (Call ahead)
DESCRIPTION:Not currently meeting every week\, please call ahead to check. \nContact Jon M – 07496 036398 \nSt Johns Chapel\nWestcott\nSurrey\nRH43PP
URL:https://debtorsanonymous.org.uk/meeting/westcott-debtors-anonymous/2026-05-11/
CATEGORIES:Meetings outside London
END:VEVENT
BEGIN:VEVENT
DTSTART;TZID=Europe/London:20260511T190000
DTEND;TZID=Europe/London:20260511T200000
DTSTAMP:20260423T192704
CREATED:20220207T194006Z
LAST-MODIFIED:20250820T140227Z
UID:48726-1778526000-1778529600@debtorsanonymous.org.uk
SUMMARY:Brighton BDA
DESCRIPTION:Roof Room – 4th Floor\nBrighthelm Community Centre\nNorth Road\nBrighton\nBN1 1YD \nContact Steve – 07867 125731
URL:https://debtorsanonymous.org.uk/meeting/brighton-bda/2026-05-11/
CATEGORIES:Meetings outside London
END:VEVENT
BEGIN:VEVENT
DTSTART;TZID=Europe/London:20260512T174500
DTEND;TZID=Europe/London:20260512T184500
DTSTAMP:20260423T192704
CREATED:20250904T105032Z
LAST-MODIFIED:20250904T105032Z
UID:51559-1778607900-1778611500@debtorsanonymous.org.uk
SUMMARY:DA Bristol: A Newfound Hope (In Person)
DESCRIPTION:Redland Park United Reform Church\nWhiteladies Road\, Redland\nBristol BS6 6SA \nDirections: The meeting takes place in one of the meeting rooms at the back of the church which can be accessed by walking down Redland Park Road. The entrance will be on the left as you walk down the road. The meeting room opens at 5:30pm for a 5:45pm start. \nMeeting contact: Marc D\nPhone number: 07772 516362
URL:https://debtorsanonymous.org.uk/meeting/da-bristol-a-newfound-hope-in-person/2026-05-12/
CATEGORIES:Meetings outside London
END:VEVENT
BEGIN:VEVENT
DTSTART;TZID=Europe/London:20260513T183000
DTEND;TZID=Europe/London:20260513T193000
DTSTAMP:20260423T192704
CREATED:20220207T201157Z
LAST-MODIFIED:20220207T201157Z
UID:48756-1778697000-1778700600@debtorsanonymous.org.uk
SUMMARY:Business Debtors Anonymous: Dublin
DESCRIPTION:JOIN ZOOM MEETING \nPlease email debtorsanonymousireland@gmail.com for the password
URL:https://debtorsanonymous.org.uk/meeting/business-debtors-anonymous-dublin/2026-05-13/
CATEGORIES:Meetings outside London,Online Meetings
END:VEVENT
BEGIN:VEVENT
DTSTART;TZID=Europe/London:20260514T123000
DTEND;TZID=Europe/London:20260514T133000
DTSTAMP:20260423T192704
CREATED:20220207T201043Z
LAST-MODIFIED:20220207T201043Z
UID:48764-1778761800-1778765400@debtorsanonymous.org.uk
SUMMARY:SUSPENDED Business Debtors Anonymous: Bournemouth
DESCRIPTION:MEETING SUSPENDED \nBoscombe Baptist Church\n26 Palmerston Road\nBournemouth\nBH1 4HS \nAnyone wishing to attend please contact \nBrian on 07545 232980
URL:https://debtorsanonymous.org.uk/meeting/business-debtors-anonymous-bournemouth/2026-05-14/
CATEGORIES:Meetings outside London
END:VEVENT
BEGIN:VEVENT
DTSTART;TZID=Europe/London:20260515T183000
DTEND;TZID=Europe/London:20260515T193000
DTSTAMP:20260423T192704
CREATED:20260310T201955Z
LAST-MODIFIED:20260310T202145Z
UID:56243-1778869800-1778873400@debtorsanonymous.org.uk
SUMMARY:Brighton DA in person meeting
DESCRIPTION:Brighton DA (in person) \nEvery Friday\n6:30pm – 7:30 pm \nAddress: \nRoof Room – 4th Floor\nBrighthelm Community Centre\nNorth Road\nBrighton\nBN1 1YD \nContact: Dan W: 07770 521521
URL:https://debtorsanonymous.org.uk/meeting/brighton-da-in-person-meeting/2026-05-15/
CATEGORIES:Meetings outside London
END:VEVENT
BEGIN:VEVENT
DTSTART;TZID=Europe/London:20260516T122000
DTEND;TZID=Europe/London:20260516T133000
DTSTAMP:20260423T192704
CREATED:20220207T201735Z
LAST-MODIFIED:20220207T201735Z
UID:48781-1778934000-1778938200@debtorsanonymous.org.uk
SUMMARY:Debtors Anonymous Meeting: Dublin
DESCRIPTION:** waiting for an update on the status of this meeting **\nDA Ireland phone number: 00 353 (0) 86 408 4468 \nOriginally: Dublin Central Mission\, Lower Abbey Street\, Dublin 1
URL:https://debtorsanonymous.org.uk/meeting/debtors-anonymous-meeting-dublin/2026-05-16/
CATEGORIES:Meetings outside London
END:VEVENT
END:VCALENDAR