BEGIN:VCALENDAR
VERSION:2.0
PRODID:-//Debtors Anonymous UK - ECPv6.0.5//NONSGML v1.0//EN
CALSCALE:GREGORIAN
METHOD:PUBLISH
X-ORIGINAL-URL:https://debtorsanonymous.org.uk
X-WR-CALDESC:Events for Debtors Anonymous UK
REFRESH-INTERVAL;VALUE=DURATION:PT1H
X-Robots-Tag:noindex
X-PUBLISHED-TTL:PT1H
BEGIN:VTIMEZONE
TZID:Europe/London
BEGIN:DAYLIGHT
TZOFFSETFROM:+0000
TZOFFSETTO:+0100
TZNAME:BST
DTSTART:20260329T010000
END:DAYLIGHT
BEGIN:STANDARD
TZOFFSETFROM:+0100
TZOFFSETTO:+0000
TZNAME:GMT
DTSTART:20261025T010000
END:STANDARD
END:VTIMEZONE
BEGIN:VEVENT
DTSTART;TZID=Europe/London:20260525T093000
DTEND;TZID=Europe/London:20260525T103000
DTSTAMP:20260424T233611
CREATED:20230303T222418Z
LAST-MODIFIED:20230303T222418Z
UID:48873-1779701400-1779705000@debtorsanonymous.org.uk
SUMMARY:Back In Business: DA and BDA meeting (W11)
DESCRIPTION:*Cash donations only for the time being.* \nTop Room \nThe Tabernacle \n34-35 Powis Square \nLONDON W11 2AY \n(Go through main entrance. Turn right. Door on right leads to stairs. \nLift also available)
URL:https://debtorsanonymous.org.uk/meeting/back-in-business-da-and-bda-meeting-w11-2023-12-18-2024-01-08-2/2026-05-25/
CATEGORIES:Meetings in London
END:VEVENT
BEGIN:VEVENT
DTSTART;TZID=Europe/London:20260525T184500
DTEND;TZID=Europe/London:20260525T194500
DTSTAMP:20260424T233611
CREATED:20260226T134414Z
LAST-MODIFIED:20260304T141632Z
UID:55139-1779734700-1779738300@debtorsanonymous.org.uk
SUMMARY:BDA Monday at Swiss Cottage
DESCRIPTION:  \nBusiness Debtors Anonymous (BDA)\nRoom 4 (upstairs\, through doors on LHS)\nSwiss Cottage Community Centre\n19 Winchester Road\nLondon\nNW3 3NG \nStarting on March 16\, 2026 \nMonday from 6.45pm – 7.45pm \n 
URL:https://debtorsanonymous.org.uk/meeting/bda-monday-at-swiss-cottage/2026-05-25/
CATEGORIES:Meetings in London
END:VEVENT
BEGIN:VEVENT
DTSTART;TZID=Europe/London:20260525T193000
DTEND;TZID=Europe/London:20260525T203000
DTSTAMP:20260424T233611
CREATED:20220201T164436Z
LAST-MODIFIED:20220201T164436Z
UID:48860-1779737400-1779741000@debtorsanonymous.org.uk
SUMMARY:DA Meeting - Soho Recovery Centre
DESCRIPTION:Soho Recovery Centre\, 123 Charing Cross Rd\, Soho\, London WC2H 0EW \nRight opposite Tottenham Court Tube station \nThis is a closed meeting of Debtors Anonymous. \nThe meeting has a weekly focus on a topic of recovery. \nPlease bring cash for the 7th Tradition. \nNewcomers are very welcome. \nContact Michael 07968 104 229 for more information. \nThe location is not wheelchair accessible. \n 
URL:https://debtorsanonymous.org.uk/meeting/da-meeting/2026-05-25/
CATEGORIES:Meetings in London
END:VEVENT
BEGIN:VEVENT
DTSTART;TZID=Europe/London:20260526T090000
DTEND;TZID=Europe/London:20260526T100000
DTSTAMP:20260424T233611
CREATED:20250109T231238Z
LAST-MODIFIED:20250109T231238Z
UID:48887-1779786000-1779789600@debtorsanonymous.org.uk
SUMMARY:“Keep it Simple” - Debtors Anonymous
DESCRIPTION:“Keep it Simple”\nDebtors Anonymous \n9am – 10am \nTuesday \nCrypt Room 2\, St Mary’s Church\, Upper Street\, London\, N1 2TX\nFace-to-face / ‘open’ meeting 
URL:https://debtorsanonymous.org.uk/meeting/keep-it-simple-da-london/2026-05-26/
LOCATION:St Mary’s Church\, Upper St\, London\, N1 2TX
CATEGORIES:Meetings in London
END:VEVENT
BEGIN:VEVENT
DTSTART;TZID=Europe/London:20260526T183000
DTEND;TZID=Europe/London:20260526T193000
DTSTAMP:20260424T233611
CREATED:20230201T102651Z
LAST-MODIFIED:20230201T102651Z
UID:48889-1779820200-1779823800@debtorsanonymous.org.uk
SUMMARY:DA Ogle St
DESCRIPTION:6.30pm Tuesdays \nDA Ogle St\nSt Charles Borromeo Church\, Westminster\n8 Ogle St\, London W1W 6HS\n \nEnter via church doors – follow the steps down to the crypt 
URL:https://debtorsanonymous.org.uk/meeting/da-and-bda-ogle-st/2026-05-26/
CATEGORIES:Meetings in London
END:VEVENT
BEGIN:VEVENT
DTSTART;TZID=Europe/London:20260527T193000
DTEND;TZID=Europe/London:20260527T203000
DTSTAMP:20260424T233611
CREATED:20220203T171537Z
LAST-MODIFIED:20220203T171537Z
UID:48896-1779910200-1779913800@debtorsanonymous.org.uk
SUMMARY:BDA: Soho Recovery Centre
DESCRIPTION:The BDA Wednesday 7.30pm meeting at the Soho Recovery Centre (SRC) takes place at the SRC\, 123 Charing Cross Road\, WC2H 0EW in the small room. \nYou can access the small meeting room via the main room. It is at the side of the main room\, at the front of the building. \nSee our group page here
URL:https://debtorsanonymous.org.uk/meeting/business-debtors-anonymous/2026-05-27/
CATEGORIES:Meetings in London
END:VEVENT
BEGIN:VEVENT
DTSTART;TZID=Europe/London:20260528T184500
DTEND;TZID=Europe/London:20260528T200000
DTSTAMP:20260424T233611
CREATED:20220203T172038Z
LAST-MODIFIED:20260226T225110Z
UID:48905-1779993900-1779998400@debtorsanonymous.org.uk
SUMMARY:BDA Swiss Cottage (In Person)
DESCRIPTION:Room 2\, Swiss Cottage Community Centre\, 19 Winchester Road\, NW3 3NR. \nContact: Sharon 07932878605
URL:https://debtorsanonymous.org.uk/meeting/bda-business-debtors-anonymous-3/2026-05-28/
CATEGORIES:Meetings in London
END:VEVENT
BEGIN:VEVENT
DTSTART;TZID=Europe/London:20260529T093000
DTEND;TZID=Europe/London:20260529T103000
DTSTAMP:20260424T233611
CREATED:20251217T144129Z
LAST-MODIFIED:20260327T141644Z
UID:53994-1780047000-1780050600@debtorsanonymous.org.uk
SUMMARY:DA / BDA Double Winners London W11
DESCRIPTION:The Double Winners 9.30 am Friday at Westbourne Grove Church will\, for one week only\, April 3rd\, 2026 Good Friday  be held at: \nThe top room\nThe Tabernacle\n34 – 35 Powis Square\nNotting Hill\nLondon\nW11 2AY \nEnter through the front door then turn right. \nThere is a door on the right leading to the stairs to the 2nd floor.\nThere is a lift available. \n  \n  \nWestbourne Grove Church (ground floor room) Corner of Westbourne Grove and Ledbury Road Notting Hill London W11 2RW \nRecovery from business and personal debt. \nFace-to-face meeting.
URL:https://debtorsanonymous.org.uk/meeting/da-bda-double-winners-london-w11-2/2026-05-29/
CATEGORIES:Meetings in London
END:VEVENT
BEGIN:VEVENT
DTSTART;TZID=Europe/London:20260530T090000
DTEND;TZID=Europe/London:20260530T100000
DTSTAMP:20260424T233611
CREATED:20241204T090807Z
LAST-MODIFIED:20241204T090807Z
UID:48926-1780131600-1780135200@debtorsanonymous.org.uk
SUMMARY:Bridge to Normal Living - Camden
DESCRIPTION:Open D.A. meeting \nSt Pauls Church \nCamden Square\nCamden London NW1 9XG UK \nSaturday\n09:00 am to 10:00 am
URL:https://debtorsanonymous.org.uk/meeting/saturday-bridge-to-normal-living-meeting/2026-05-30/
CATEGORIES:Meetings in London
END:VEVENT
BEGIN:VEVENT
DTSTART;TZID=Europe/London:20260530T100000
DTEND;TZID=Europe/London:20260530T110000
DTSTAMP:20260424T233611
CREATED:20260226T134805Z
LAST-MODIFIED:20260304T141226Z
UID:55687-1780135200-1780138800@debtorsanonymous.org.uk
SUMMARY:DA/BDA meeting Bethnal Green
DESCRIPTION:A new in-person\, face-to-face DA/BDA meeting has\nstarted in Bethnal Green \nTime:\nSaturday 10am – 11am \nAddress:\nQuaker Social Action\n17 Old Ford Road\nBethnal Green\nLondon\nE2 9PJ
URL:https://debtorsanonymous.org.uk/meeting/da-bda-meeting-bethnal-green/2026-05-30/
CATEGORIES:Meetings in London
END:VEVENT
END:VCALENDAR