BEGIN:VCALENDAR
VERSION:2.0
PRODID:-//Debtors Anonymous UK - ECPv6.0.5//NONSGML v1.0//EN
CALSCALE:GREGORIAN
METHOD:PUBLISH
X-ORIGINAL-URL:https://debtorsanonymous.org.uk
X-WR-CALDESC:Events for Debtors Anonymous UK
REFRESH-INTERVAL;VALUE=DURATION:PT1H
X-Robots-Tag:noindex
X-PUBLISHED-TTL:PT1H
BEGIN:VTIMEZONE
TZID:Europe/London
BEGIN:DAYLIGHT
TZOFFSETFROM:+0000
TZOFFSETTO:+0100
TZNAME:BST
DTSTART:20260329T010000
END:DAYLIGHT
BEGIN:STANDARD
TZOFFSETFROM:+0100
TZOFFSETTO:+0000
TZNAME:GMT
DTSTART:20261025T010000
END:STANDARD
END:VTIMEZONE
BEGIN:VEVENT
DTSTART;TZID=Europe/London:20260424T073000
DTEND;TZID=Europe/London:20260424T083000
DTSTAMP:20260424T001400
CREATED:20220203T172534Z
LAST-MODIFIED:20220203T172534Z
UID:48541-1777015800-1777019400@debtorsanonymous.org.uk
SUMMARY:Step and Literature Meeting: BDA (Online)
DESCRIPTION:JOIN ZOOM MEETING \nThis is a closed meeting\, open to those who have desire to stop incurring new unsecured debt. You will be asked to kindly turn on your camera. If you do not wish to use the camera\, we suggest you try one of the other phone or online meetings available. Exceptions can be made on request. \nContact email: FridayBDAzoom AT gmail.com \nDownload the BDA Zoom meeting Group PI template
URL:https://debtorsanonymous.org.uk/meeting/step-and-literature-meeting-bda-business-debtors-anonymous/2026-04-24/
CATEGORIES:Online Meetings
END:VEVENT
BEGIN:VEVENT
DTSTART;TZID=Europe/London:20260501T073000
DTEND;TZID=Europe/London:20260501T083000
DTSTAMP:20260424T001400
CREATED:20220203T172534Z
LAST-MODIFIED:20220203T172534Z
UID:48625-1777620600-1777624200@debtorsanonymous.org.uk
SUMMARY:Step and Literature Meeting: BDA (Online)
DESCRIPTION:JOIN ZOOM MEETING \nThis is a closed meeting\, open to those who have desire to stop incurring new unsecured debt. You will be asked to kindly turn on your camera. If you do not wish to use the camera\, we suggest you try one of the other phone or online meetings available. Exceptions can be made on request. \nContact email: FridayBDAzoom AT gmail.com \nDownload the BDA Zoom meeting Group PI template
URL:https://debtorsanonymous.org.uk/meeting/step-and-literature-meeting-bda-business-debtors-anonymous/2026-05-01/
CATEGORIES:Online Meetings
END:VEVENT
BEGIN:VEVENT
DTSTART;TZID=Europe/London:20260508T073000
DTEND;TZID=Europe/London:20260508T083000
DTSTAMP:20260424T001400
CREATED:20220203T172534Z
LAST-MODIFIED:20220203T172534Z
UID:48700-1778225400-1778229000@debtorsanonymous.org.uk
SUMMARY:Step and Literature Meeting: BDA (Online)
DESCRIPTION:JOIN ZOOM MEETING \nThis is a closed meeting\, open to those who have desire to stop incurring new unsecured debt. You will be asked to kindly turn on your camera. If you do not wish to use the camera\, we suggest you try one of the other phone or online meetings available. Exceptions can be made on request. \nContact email: FridayBDAzoom AT gmail.com \nDownload the BDA Zoom meeting Group PI template
URL:https://debtorsanonymous.org.uk/meeting/step-and-literature-meeting-bda-business-debtors-anonymous/2026-05-08/
CATEGORIES:Online Meetings
END:VEVENT
BEGIN:VEVENT
DTSTART;TZID=Europe/London:20260515T073000
DTEND;TZID=Europe/London:20260515T083000
DTSTAMP:20260424T001400
CREATED:20220203T172534Z
LAST-MODIFIED:20220203T172534Z
UID:48772-1778830200-1778833800@debtorsanonymous.org.uk
SUMMARY:Step and Literature Meeting: BDA (Online)
DESCRIPTION:JOIN ZOOM MEETING \nThis is a closed meeting\, open to those who have desire to stop incurring new unsecured debt. You will be asked to kindly turn on your camera. If you do not wish to use the camera\, we suggest you try one of the other phone or online meetings available. Exceptions can be made on request. \nContact email: FridayBDAzoom AT gmail.com \nDownload the BDA Zoom meeting Group PI template
URL:https://debtorsanonymous.org.uk/meeting/step-and-literature-meeting-bda-business-debtors-anonymous/2026-05-15/
CATEGORIES:Online Meetings
END:VEVENT
BEGIN:VEVENT
DTSTART;TZID=Europe/London:20260522T073000
DTEND;TZID=Europe/London:20260522T083000
DTSTAMP:20260424T001400
CREATED:20220203T172534Z
LAST-MODIFIED:20220203T172534Z
UID:48843-1779435000-1779438600@debtorsanonymous.org.uk
SUMMARY:Step and Literature Meeting: BDA (Online)
DESCRIPTION:JOIN ZOOM MEETING \nThis is a closed meeting\, open to those who have desire to stop incurring new unsecured debt. You will be asked to kindly turn on your camera. If you do not wish to use the camera\, we suggest you try one of the other phone or online meetings available. Exceptions can be made on request. \nContact email: FridayBDAzoom AT gmail.com \nDownload the BDA Zoom meeting Group PI template
URL:https://debtorsanonymous.org.uk/meeting/step-and-literature-meeting-bda-business-debtors-anonymous/2026-05-22/
CATEGORIES:Online Meetings
END:VEVENT
BEGIN:VEVENT
DTSTART;TZID=Europe/London:20260529T073000
DTEND;TZID=Europe/London:20260529T083000
DTSTAMP:20260424T001400
CREATED:20220203T172534Z
LAST-MODIFIED:20220203T172534Z
UID:48914-1780039800-1780043400@debtorsanonymous.org.uk
SUMMARY:Step and Literature Meeting: BDA (Online)
DESCRIPTION:JOIN ZOOM MEETING \nThis is a closed meeting\, open to those who have desire to stop incurring new unsecured debt. You will be asked to kindly turn on your camera. If you do not wish to use the camera\, we suggest you try one of the other phone or online meetings available. Exceptions can be made on request. \nContact email: FridayBDAzoom AT gmail.com \nDownload the BDA Zoom meeting Group PI template
URL:https://debtorsanonymous.org.uk/meeting/step-and-literature-meeting-bda-business-debtors-anonymous/2026-05-29/
CATEGORIES:Online Meetings
END:VEVENT
BEGIN:VEVENT
DTSTART;TZID=Europe/London:20260605T073000
DTEND;TZID=Europe/London:20260605T083000
DTSTAMP:20260424T001400
CREATED:20220203T172534Z
LAST-MODIFIED:20220203T172534Z
UID:49199-1780644600-1780648200@debtorsanonymous.org.uk
SUMMARY:Step and Literature Meeting: BDA (Online)
DESCRIPTION:JOIN ZOOM MEETING \nThis is a closed meeting\, open to those who have desire to stop incurring new unsecured debt. You will be asked to kindly turn on your camera. If you do not wish to use the camera\, we suggest you try one of the other phone or online meetings available. Exceptions can be made on request. \nContact email: FridayBDAzoom AT gmail.com \nDownload the BDA Zoom meeting Group PI template
URL:https://debtorsanonymous.org.uk/meeting/step-and-literature-meeting-bda-business-debtors-anonymous/2026-06-05/
CATEGORIES:Online Meetings
END:VEVENT
BEGIN:VEVENT
DTSTART;TZID=Europe/London:20260612T073000
DTEND;TZID=Europe/London:20260612T083000
DTSTAMP:20260424T001400
CREATED:20220203T172534Z
LAST-MODIFIED:20220203T172534Z
UID:49283-1781249400-1781253000@debtorsanonymous.org.uk
SUMMARY:Step and Literature Meeting: BDA (Online)
DESCRIPTION:JOIN ZOOM MEETING \nThis is a closed meeting\, open to those who have desire to stop incurring new unsecured debt. You will be asked to kindly turn on your camera. If you do not wish to use the camera\, we suggest you try one of the other phone or online meetings available. Exceptions can be made on request. \nContact email: FridayBDAzoom AT gmail.com \nDownload the BDA Zoom meeting Group PI template
URL:https://debtorsanonymous.org.uk/meeting/step-and-literature-meeting-bda-business-debtors-anonymous/2026-06-12/
CATEGORIES:Online Meetings
END:VEVENT
BEGIN:VEVENT
DTSTART;TZID=Europe/London:20260619T073000
DTEND;TZID=Europe/London:20260619T083000
DTSTAMP:20260424T001400
CREATED:20220203T172534Z
LAST-MODIFIED:20220203T172534Z
UID:49355-1781854200-1781857800@debtorsanonymous.org.uk
SUMMARY:Step and Literature Meeting: BDA (Online)
DESCRIPTION:JOIN ZOOM MEETING \nThis is a closed meeting\, open to those who have desire to stop incurring new unsecured debt. You will be asked to kindly turn on your camera. If you do not wish to use the camera\, we suggest you try one of the other phone or online meetings available. Exceptions can be made on request. \nContact email: FridayBDAzoom AT gmail.com \nDownload the BDA Zoom meeting Group PI template
URL:https://debtorsanonymous.org.uk/meeting/step-and-literature-meeting-bda-business-debtors-anonymous/2026-06-19/
CATEGORIES:Online Meetings
END:VEVENT
BEGIN:VEVENT
DTSTART;TZID=Europe/London:20260626T073000
DTEND;TZID=Europe/London:20260626T083000
DTSTAMP:20260424T001400
CREATED:20220203T172534Z
LAST-MODIFIED:20220203T172534Z
UID:49428-1782459000-1782462600@debtorsanonymous.org.uk
SUMMARY:Step and Literature Meeting: BDA (Online)
DESCRIPTION:JOIN ZOOM MEETING \nThis is a closed meeting\, open to those who have desire to stop incurring new unsecured debt. You will be asked to kindly turn on your camera. If you do not wish to use the camera\, we suggest you try one of the other phone or online meetings available. Exceptions can be made on request. \nContact email: FridayBDAzoom AT gmail.com \nDownload the BDA Zoom meeting Group PI template
URL:https://debtorsanonymous.org.uk/meeting/step-and-literature-meeting-bda-business-debtors-anonymous/2026-06-26/
CATEGORIES:Online Meetings
END:VEVENT
BEGIN:VEVENT
DTSTART;TZID=Europe/London:20260703T073000
DTEND;TZID=Europe/London:20260703T083000
DTSTAMP:20260424T001400
CREATED:20220203T172534Z
LAST-MODIFIED:20220203T172534Z
UID:49715-1783063800-1783067400@debtorsanonymous.org.uk
SUMMARY:Step and Literature Meeting: BDA (Online)
DESCRIPTION:JOIN ZOOM MEETING \nThis is a closed meeting\, open to those who have desire to stop incurring new unsecured debt. You will be asked to kindly turn on your camera. If you do not wish to use the camera\, we suggest you try one of the other phone or online meetings available. Exceptions can be made on request. \nContact email: FridayBDAzoom AT gmail.com \nDownload the BDA Zoom meeting Group PI template
URL:https://debtorsanonymous.org.uk/meeting/step-and-literature-meeting-bda-business-debtors-anonymous/2026-07-03/
CATEGORIES:Online Meetings
END:VEVENT
BEGIN:VEVENT
DTSTART;TZID=Europe/London:20260710T073000
DTEND;TZID=Europe/London:20260710T083000
DTSTAMP:20260424T001400
CREATED:20220203T172534Z
LAST-MODIFIED:20220203T172534Z
UID:49892-1783668600-1783672200@debtorsanonymous.org.uk
SUMMARY:Step and Literature Meeting: BDA (Online)
DESCRIPTION:JOIN ZOOM MEETING \nThis is a closed meeting\, open to those who have desire to stop incurring new unsecured debt. You will be asked to kindly turn on your camera. If you do not wish to use the camera\, we suggest you try one of the other phone or online meetings available. Exceptions can be made on request. \nContact email: FridayBDAzoom AT gmail.com \nDownload the BDA Zoom meeting Group PI template
URL:https://debtorsanonymous.org.uk/meeting/step-and-literature-meeting-bda-business-debtors-anonymous/2026-07-10/
CATEGORIES:Online Meetings
END:VEVENT
BEGIN:VEVENT
DTSTART;TZID=Europe/London:20260717T073000
DTEND;TZID=Europe/London:20260717T083000
DTSTAMP:20260424T001400
CREATED:20220203T172534Z
LAST-MODIFIED:20220203T172534Z
UID:49965-1784273400-1784277000@debtorsanonymous.org.uk
SUMMARY:Step and Literature Meeting: BDA (Online)
DESCRIPTION:JOIN ZOOM MEETING \nThis is a closed meeting\, open to those who have desire to stop incurring new unsecured debt. You will be asked to kindly turn on your camera. If you do not wish to use the camera\, we suggest you try one of the other phone or online meetings available. Exceptions can be made on request. \nContact email: FridayBDAzoom AT gmail.com \nDownload the BDA Zoom meeting Group PI template
URL:https://debtorsanonymous.org.uk/meeting/step-and-literature-meeting-bda-business-debtors-anonymous/2026-07-17/
CATEGORIES:Online Meetings
END:VEVENT
BEGIN:VEVENT
DTSTART;TZID=Europe/London:20260724T073000
DTEND;TZID=Europe/London:20260724T083000
DTSTAMP:20260424T001400
CREATED:20220203T172534Z
LAST-MODIFIED:20220203T172534Z
UID:50037-1784878200-1784881800@debtorsanonymous.org.uk
SUMMARY:Step and Literature Meeting: BDA (Online)
DESCRIPTION:JOIN ZOOM MEETING \nThis is a closed meeting\, open to those who have desire to stop incurring new unsecured debt. You will be asked to kindly turn on your camera. If you do not wish to use the camera\, we suggest you try one of the other phone or online meetings available. Exceptions can be made on request. \nContact email: FridayBDAzoom AT gmail.com \nDownload the BDA Zoom meeting Group PI template
URL:https://debtorsanonymous.org.uk/meeting/step-and-literature-meeting-bda-business-debtors-anonymous/2026-07-24/
CATEGORIES:Online Meetings
END:VEVENT
BEGIN:VEVENT
DTSTART;TZID=Europe/London:20260731T073000
DTEND;TZID=Europe/London:20260731T083000
DTSTAMP:20260424T001400
CREATED:20220203T172534Z
LAST-MODIFIED:20220203T172534Z
UID:50110-1785483000-1785486600@debtorsanonymous.org.uk
SUMMARY:Step and Literature Meeting: BDA (Online)
DESCRIPTION:JOIN ZOOM MEETING \nThis is a closed meeting\, open to those who have desire to stop incurring new unsecured debt. You will be asked to kindly turn on your camera. If you do not wish to use the camera\, we suggest you try one of the other phone or online meetings available. Exceptions can be made on request. \nContact email: FridayBDAzoom AT gmail.com \nDownload the BDA Zoom meeting Group PI template
URL:https://debtorsanonymous.org.uk/meeting/step-and-literature-meeting-bda-business-debtors-anonymous/2026-07-31/
CATEGORIES:Online Meetings
END:VEVENT
BEGIN:VEVENT
DTSTART;TZID=Europe/London:20260807T073000
DTEND;TZID=Europe/London:20260807T083000
DTSTAMP:20260424T001400
CREATED:20220203T172534Z
LAST-MODIFIED:20220203T172534Z
UID:50298-1786087800-1786091400@debtorsanonymous.org.uk
SUMMARY:Step and Literature Meeting: BDA (Online)
DESCRIPTION:JOIN ZOOM MEETING \nThis is a closed meeting\, open to those who have desire to stop incurring new unsecured debt. You will be asked to kindly turn on your camera. If you do not wish to use the camera\, we suggest you try one of the other phone or online meetings available. Exceptions can be made on request. \nContact email: FridayBDAzoom AT gmail.com \nDownload the BDA Zoom meeting Group PI template
URL:https://debtorsanonymous.org.uk/meeting/step-and-literature-meeting-bda-business-debtors-anonymous/2026-08-07/
CATEGORIES:Online Meetings
END:VEVENT
BEGIN:VEVENT
DTSTART;TZID=Europe/London:20260814T073000
DTEND;TZID=Europe/London:20260814T083000
DTSTAMP:20260424T001400
CREATED:20220203T172534Z
LAST-MODIFIED:20220203T172534Z
UID:50434-1786692600-1786696200@debtorsanonymous.org.uk
SUMMARY:Step and Literature Meeting: BDA (Online)
DESCRIPTION:JOIN ZOOM MEETING \nThis is a closed meeting\, open to those who have desire to stop incurring new unsecured debt. You will be asked to kindly turn on your camera. If you do not wish to use the camera\, we suggest you try one of the other phone or online meetings available. Exceptions can be made on request. \nContact email: FridayBDAzoom AT gmail.com \nDownload the BDA Zoom meeting Group PI template
URL:https://debtorsanonymous.org.uk/meeting/step-and-literature-meeting-bda-business-debtors-anonymous/2026-08-14/
CATEGORIES:Online Meetings
END:VEVENT
BEGIN:VEVENT
DTSTART;TZID=Europe/London:20260821T073000
DTEND;TZID=Europe/London:20260821T083000
DTSTAMP:20260424T001400
CREATED:20220203T172534Z
LAST-MODIFIED:20220203T172534Z
UID:50612-1787297400-1787301000@debtorsanonymous.org.uk
SUMMARY:Step and Literature Meeting: BDA (Online)
DESCRIPTION:JOIN ZOOM MEETING \nThis is a closed meeting\, open to those who have desire to stop incurring new unsecured debt. You will be asked to kindly turn on your camera. If you do not wish to use the camera\, we suggest you try one of the other phone or online meetings available. Exceptions can be made on request. \nContact email: FridayBDAzoom AT gmail.com \nDownload the BDA Zoom meeting Group PI template
URL:https://debtorsanonymous.org.uk/meeting/step-and-literature-meeting-bda-business-debtors-anonymous/2026-08-21/
CATEGORIES:Online Meetings
END:VEVENT
BEGIN:VEVENT
DTSTART;TZID=Europe/London:20260828T073000
DTEND;TZID=Europe/London:20260828T083000
DTSTAMP:20260424T001400
CREATED:20220203T172534Z
LAST-MODIFIED:20220203T172534Z
UID:50778-1787902200-1787905800@debtorsanonymous.org.uk
SUMMARY:Step and Literature Meeting: BDA (Online)
DESCRIPTION:JOIN ZOOM MEETING \nThis is a closed meeting\, open to those who have desire to stop incurring new unsecured debt. You will be asked to kindly turn on your camera. If you do not wish to use the camera\, we suggest you try one of the other phone or online meetings available. Exceptions can be made on request. \nContact email: FridayBDAzoom AT gmail.com \nDownload the BDA Zoom meeting Group PI template
URL:https://debtorsanonymous.org.uk/meeting/step-and-literature-meeting-bda-business-debtors-anonymous/2026-08-28/
CATEGORIES:Online Meetings
END:VEVENT
BEGIN:VEVENT
DTSTART;TZID=Europe/London:20260904T073000
DTEND;TZID=Europe/London:20260904T083000
DTSTAMP:20260424T001400
CREATED:20220203T172534Z
LAST-MODIFIED:20220203T172534Z
UID:51588-1788507000-1788510600@debtorsanonymous.org.uk
SUMMARY:Step and Literature Meeting: BDA (Online)
DESCRIPTION:JOIN ZOOM MEETING \nThis is a closed meeting\, open to those who have desire to stop incurring new unsecured debt. You will be asked to kindly turn on your camera. If you do not wish to use the camera\, we suggest you try one of the other phone or online meetings available. Exceptions can be made on request. \nContact email: FridayBDAzoom AT gmail.com \nDownload the BDA Zoom meeting Group PI template
URL:https://debtorsanonymous.org.uk/meeting/step-and-literature-meeting-bda-business-debtors-anonymous/2026-09-04/
CATEGORIES:Online Meetings
END:VEVENT
BEGIN:VEVENT
DTSTART;TZID=Europe/London:20260911T073000
DTEND;TZID=Europe/London:20260911T083000
DTSTAMP:20260424T001400
CREATED:20220203T172534Z
LAST-MODIFIED:20220203T172534Z
UID:51671-1789111800-1789115400@debtorsanonymous.org.uk
SUMMARY:Step and Literature Meeting: BDA (Online)
DESCRIPTION:JOIN ZOOM MEETING \nThis is a closed meeting\, open to those who have desire to stop incurring new unsecured debt. You will be asked to kindly turn on your camera. If you do not wish to use the camera\, we suggest you try one of the other phone or online meetings available. Exceptions can be made on request. \nContact email: FridayBDAzoom AT gmail.com \nDownload the BDA Zoom meeting Group PI template
URL:https://debtorsanonymous.org.uk/meeting/step-and-literature-meeting-bda-business-debtors-anonymous/2026-09-11/
CATEGORIES:Online Meetings
END:VEVENT
BEGIN:VEVENT
DTSTART;TZID=Europe/London:20260918T073000
DTEND;TZID=Europe/London:20260918T083000
DTSTAMP:20260424T001400
CREATED:20220203T172534Z
LAST-MODIFIED:20220203T172534Z
UID:51745-1789716600-1789720200@debtorsanonymous.org.uk
SUMMARY:Step and Literature Meeting: BDA (Online)
DESCRIPTION:JOIN ZOOM MEETING \nThis is a closed meeting\, open to those who have desire to stop incurring new unsecured debt. You will be asked to kindly turn on your camera. If you do not wish to use the camera\, we suggest you try one of the other phone or online meetings available. Exceptions can be made on request. \nContact email: FridayBDAzoom AT gmail.com \nDownload the BDA Zoom meeting Group PI template
URL:https://debtorsanonymous.org.uk/meeting/step-and-literature-meeting-bda-business-debtors-anonymous/2026-09-18/
CATEGORIES:Online Meetings
END:VEVENT
BEGIN:VEVENT
DTSTART;TZID=Europe/London:20260925T073000
DTEND;TZID=Europe/London:20260925T083000
DTSTAMP:20260424T001400
CREATED:20220203T172534Z
LAST-MODIFIED:20220203T172534Z
UID:51819-1790321400-1790325000@debtorsanonymous.org.uk
SUMMARY:Step and Literature Meeting: BDA (Online)
DESCRIPTION:JOIN ZOOM MEETING \nThis is a closed meeting\, open to those who have desire to stop incurring new unsecured debt. You will be asked to kindly turn on your camera. If you do not wish to use the camera\, we suggest you try one of the other phone or online meetings available. Exceptions can be made on request. \nContact email: FridayBDAzoom AT gmail.com \nDownload the BDA Zoom meeting Group PI template
URL:https://debtorsanonymous.org.uk/meeting/step-and-literature-meeting-bda-business-debtors-anonymous/2026-09-25/
CATEGORIES:Online Meetings
END:VEVENT
BEGIN:VEVENT
DTSTART;TZID=Europe/London:20261002T073000
DTEND;TZID=Europe/London:20261002T083000
DTSTAMP:20260424T001400
CREATED:20220203T172534Z
LAST-MODIFIED:20220203T172534Z
UID:51892-1790926200-1790929800@debtorsanonymous.org.uk
SUMMARY:Step and Literature Meeting: BDA (Online)
DESCRIPTION:JOIN ZOOM MEETING \nThis is a closed meeting\, open to those who have desire to stop incurring new unsecured debt. You will be asked to kindly turn on your camera. If you do not wish to use the camera\, we suggest you try one of the other phone or online meetings available. Exceptions can be made on request. \nContact email: FridayBDAzoom AT gmail.com \nDownload the BDA Zoom meeting Group PI template
URL:https://debtorsanonymous.org.uk/meeting/step-and-literature-meeting-bda-business-debtors-anonymous/2026-10-02/
CATEGORIES:Online Meetings
END:VEVENT
BEGIN:VEVENT
DTSTART;TZID=Europe/London:20261009T073000
DTEND;TZID=Europe/London:20261009T083000
DTSTAMP:20260424T001400
CREATED:20220203T172534Z
LAST-MODIFIED:20220203T172534Z
UID:51957-1791531000-1791534600@debtorsanonymous.org.uk
SUMMARY:Step and Literature Meeting: BDA (Online)
DESCRIPTION:JOIN ZOOM MEETING \nThis is a closed meeting\, open to those who have desire to stop incurring new unsecured debt. You will be asked to kindly turn on your camera. If you do not wish to use the camera\, we suggest you try one of the other phone or online meetings available. Exceptions can be made on request. \nContact email: FridayBDAzoom AT gmail.com \nDownload the BDA Zoom meeting Group PI template
URL:https://debtorsanonymous.org.uk/meeting/step-and-literature-meeting-bda-business-debtors-anonymous/2026-10-09/
CATEGORIES:Online Meetings
END:VEVENT
BEGIN:VEVENT
DTSTART;TZID=Europe/London:20261016T073000
DTEND;TZID=Europe/London:20261016T083000
DTSTAMP:20260424T001400
CREATED:20220203T172534Z
LAST-MODIFIED:20220203T172534Z
UID:52025-1792135800-1792139400@debtorsanonymous.org.uk
SUMMARY:Step and Literature Meeting: BDA (Online)
DESCRIPTION:JOIN ZOOM MEETING \nThis is a closed meeting\, open to those who have desire to stop incurring new unsecured debt. You will be asked to kindly turn on your camera. If you do not wish to use the camera\, we suggest you try one of the other phone or online meetings available. Exceptions can be made on request. \nContact email: FridayBDAzoom AT gmail.com \nDownload the BDA Zoom meeting Group PI template
URL:https://debtorsanonymous.org.uk/meeting/step-and-literature-meeting-bda-business-debtors-anonymous/2026-10-16/
CATEGORIES:Online Meetings
END:VEVENT
BEGIN:VEVENT
DTSTART;TZID=Europe/London:20261023T073000
DTEND;TZID=Europe/London:20261023T083000
DTSTAMP:20260424T001400
CREATED:20220203T172534Z
LAST-MODIFIED:20220203T172534Z
UID:52090-1792740600-1792744200@debtorsanonymous.org.uk
SUMMARY:Step and Literature Meeting: BDA (Online)
DESCRIPTION:JOIN ZOOM MEETING \nThis is a closed meeting\, open to those who have desire to stop incurring new unsecured debt. You will be asked to kindly turn on your camera. If you do not wish to use the camera\, we suggest you try one of the other phone or online meetings available. Exceptions can be made on request. \nContact email: FridayBDAzoom AT gmail.com \nDownload the BDA Zoom meeting Group PI template
URL:https://debtorsanonymous.org.uk/meeting/step-and-literature-meeting-bda-business-debtors-anonymous/2026-10-23/
CATEGORIES:Online Meetings
END:VEVENT
BEGIN:VEVENT
DTSTART;TZID=Europe/London:20261030T073000
DTEND;TZID=Europe/London:20261030T083000
DTSTAMP:20260424T001400
CREATED:20220203T172534Z
LAST-MODIFIED:20220203T172534Z
UID:52273-1793345400-1793349000@debtorsanonymous.org.uk
SUMMARY:Step and Literature Meeting: BDA (Online)
DESCRIPTION:JOIN ZOOM MEETING \nThis is a closed meeting\, open to those who have desire to stop incurring new unsecured debt. You will be asked to kindly turn on your camera. If you do not wish to use the camera\, we suggest you try one of the other phone or online meetings available. Exceptions can be made on request. \nContact email: FridayBDAzoom AT gmail.com \nDownload the BDA Zoom meeting Group PI template
URL:https://debtorsanonymous.org.uk/meeting/step-and-literature-meeting-bda-business-debtors-anonymous/2026-10-30/
CATEGORIES:Online Meetings
END:VEVENT
BEGIN:VEVENT
DTSTART;TZID=Europe/London:20261106T073000
DTEND;TZID=Europe/London:20261106T083000
DTSTAMP:20260424T001400
CREATED:20220203T172534Z
LAST-MODIFIED:20220203T172534Z
UID:52340-1793950200-1793953800@debtorsanonymous.org.uk
SUMMARY:Step and Literature Meeting: BDA (Online)
DESCRIPTION:JOIN ZOOM MEETING \nThis is a closed meeting\, open to those who have desire to stop incurring new unsecured debt. You will be asked to kindly turn on your camera. If you do not wish to use the camera\, we suggest you try one of the other phone or online meetings available. Exceptions can be made on request. \nContact email: FridayBDAzoom AT gmail.com \nDownload the BDA Zoom meeting Group PI template
URL:https://debtorsanonymous.org.uk/meeting/step-and-literature-meeting-bda-business-debtors-anonymous/2026-11-06/
CATEGORIES:Online Meetings
END:VEVENT
BEGIN:VEVENT
DTSTART;TZID=Europe/London:20261113T073000
DTEND;TZID=Europe/London:20261113T083000
DTSTAMP:20260424T001400
CREATED:20220203T172534Z
LAST-MODIFIED:20220203T172534Z
UID:52721-1794555000-1794558600@debtorsanonymous.org.uk
SUMMARY:Step and Literature Meeting: BDA (Online)
DESCRIPTION:JOIN ZOOM MEETING \nThis is a closed meeting\, open to those who have desire to stop incurring new unsecured debt. You will be asked to kindly turn on your camera. If you do not wish to use the camera\, we suggest you try one of the other phone or online meetings available. Exceptions can be made on request. \nContact email: FridayBDAzoom AT gmail.com \nDownload the BDA Zoom meeting Group PI template
URL:https://debtorsanonymous.org.uk/meeting/step-and-literature-meeting-bda-business-debtors-anonymous/2026-11-13/
CATEGORIES:Online Meetings
END:VEVENT
END:VCALENDAR