BEGIN:VCALENDAR
VERSION:2.0
PRODID:-//Debtors Anonymous UK - ECPv6.0.5//NONSGML v1.0//EN
CALSCALE:GREGORIAN
METHOD:PUBLISH
X-ORIGINAL-URL:https://debtorsanonymous.org.uk
X-WR-CALDESC:Events for Debtors Anonymous UK
REFRESH-INTERVAL;VALUE=DURATION:PT1H
X-Robots-Tag:noindex
X-PUBLISHED-TTL:PT1H
BEGIN:VTIMEZONE
TZID:Europe/London
BEGIN:DAYLIGHT
TZOFFSETFROM:+0000
TZOFFSETTO:+0100
TZNAME:BST
DTSTART:20250330T010000
END:DAYLIGHT
BEGIN:STANDARD
TZOFFSETFROM:+0100
TZOFFSETTO:+0000
TZNAME:GMT
DTSTART:20251026T010000
END:STANDARD
BEGIN:DAYLIGHT
TZOFFSETFROM:+0000
TZOFFSETTO:+0100
TZNAME:BST
DTSTART:20260329T010000
END:DAYLIGHT
BEGIN:STANDARD
TZOFFSETFROM:+0100
TZOFFSETTO:+0000
TZNAME:GMT
DTSTART:20261025T010000
END:STANDARD
END:VTIMEZONE
BEGIN:VEVENT
DTSTART;TZID=Europe/London:20260417T073000
DTEND;TZID=Europe/London:20260417T083000
DTSTAMP:20260424T020207
CREATED:20220203T172534Z
LAST-MODIFIED:20220203T172534Z
UID:48364-1776411000-1776414600@debtorsanonymous.org.uk
SUMMARY:Step and Literature Meeting: BDA (Online)
DESCRIPTION:JOIN ZOOM MEETING \nThis is a closed meeting\, open to those who have desire to stop incurring new unsecured debt. You will be asked to kindly turn on your camera. If you do not wish to use the camera\, we suggest you try one of the other phone or online meetings available. Exceptions can be made on request. \nContact email: FridayBDAzoom AT gmail.com \nDownload the BDA Zoom meeting Group PI template
URL:https://debtorsanonymous.org.uk/meeting/step-and-literature-meeting-bda-business-debtors-anonymous/2026-04-17/
CATEGORIES:Online Meetings
END:VEVENT
BEGIN:VEVENT
DTSTART;TZID=Europe/London:20260410T073000
DTEND;TZID=Europe/London:20260410T083000
DTSTAMP:20260424T020207
CREATED:20220203T172534Z
LAST-MODIFIED:20220203T172534Z
UID:48186-1775806200-1775809800@debtorsanonymous.org.uk
SUMMARY:Step and Literature Meeting: BDA (Online)
DESCRIPTION:JOIN ZOOM MEETING \nThis is a closed meeting\, open to those who have desire to stop incurring new unsecured debt. You will be asked to kindly turn on your camera. If you do not wish to use the camera\, we suggest you try one of the other phone or online meetings available. Exceptions can be made on request. \nContact email: FridayBDAzoom AT gmail.com \nDownload the BDA Zoom meeting Group PI template
URL:https://debtorsanonymous.org.uk/meeting/step-and-literature-meeting-bda-business-debtors-anonymous/2026-04-10/
CATEGORIES:Online Meetings
END:VEVENT
BEGIN:VEVENT
DTSTART;TZID=Europe/London:20260403T073000
DTEND;TZID=Europe/London:20260403T083000
DTSTAMP:20260424T020207
CREATED:20220203T172534Z
LAST-MODIFIED:20220203T172534Z
UID:48115-1775201400-1775205000@debtorsanonymous.org.uk
SUMMARY:Step and Literature Meeting: BDA (Online)
DESCRIPTION:JOIN ZOOM MEETING \nThis is a closed meeting\, open to those who have desire to stop incurring new unsecured debt. You will be asked to kindly turn on your camera. If you do not wish to use the camera\, we suggest you try one of the other phone or online meetings available. Exceptions can be made on request. \nContact email: FridayBDAzoom AT gmail.com \nDownload the BDA Zoom meeting Group PI template
URL:https://debtorsanonymous.org.uk/meeting/step-and-literature-meeting-bda-business-debtors-anonymous/2026-04-03/
CATEGORIES:Online Meetings
END:VEVENT
BEGIN:VEVENT
DTSTART;TZID=Europe/London:20260327T073000
DTEND;TZID=Europe/London:20260327T083000
DTSTAMP:20260424T020207
CREATED:20220203T172534Z
LAST-MODIFIED:20220203T172534Z
UID:47286-1774596600-1774600200@debtorsanonymous.org.uk
SUMMARY:Step and Literature Meeting: BDA (Online)
DESCRIPTION:JOIN ZOOM MEETING \nThis is a closed meeting\, open to those who have desire to stop incurring new unsecured debt. You will be asked to kindly turn on your camera. If you do not wish to use the camera\, we suggest you try one of the other phone or online meetings available. Exceptions can be made on request. \nContact email: FridayBDAzoom AT gmail.com \nDownload the BDA Zoom meeting Group PI template
URL:https://debtorsanonymous.org.uk/meeting/step-and-literature-meeting-bda-business-debtors-anonymous/2026-03-27/
CATEGORIES:Online Meetings
END:VEVENT
BEGIN:VEVENT
DTSTART;TZID=Europe/London:20260320T073000
DTEND;TZID=Europe/London:20260320T083000
DTSTAMP:20260424T020207
CREATED:20220203T172534Z
LAST-MODIFIED:20220203T172534Z
UID:47048-1773991800-1773995400@debtorsanonymous.org.uk
SUMMARY:Step and Literature Meeting: BDA (Online)
DESCRIPTION:JOIN ZOOM MEETING \nThis is a closed meeting\, open to those who have desire to stop incurring new unsecured debt. You will be asked to kindly turn on your camera. If you do not wish to use the camera\, we suggest you try one of the other phone or online meetings available. Exceptions can be made on request. \nContact email: FridayBDAzoom AT gmail.com \nDownload the BDA Zoom meeting Group PI template
URL:https://debtorsanonymous.org.uk/meeting/step-and-literature-meeting-bda-business-debtors-anonymous/2026-03-20/
CATEGORIES:Online Meetings
END:VEVENT
BEGIN:VEVENT
DTSTART;TZID=Europe/London:20260313T073000
DTEND;TZID=Europe/London:20260313T083000
DTSTAMP:20260424T020207
CREATED:20220203T172534Z
LAST-MODIFIED:20220203T172534Z
UID:46976-1773387000-1773390600@debtorsanonymous.org.uk
SUMMARY:Step and Literature Meeting: BDA (Online)
DESCRIPTION:JOIN ZOOM MEETING \nThis is a closed meeting\, open to those who have desire to stop incurring new unsecured debt. You will be asked to kindly turn on your camera. If you do not wish to use the camera\, we suggest you try one of the other phone or online meetings available. Exceptions can be made on request. \nContact email: FridayBDAzoom AT gmail.com \nDownload the BDA Zoom meeting Group PI template
URL:https://debtorsanonymous.org.uk/meeting/step-and-literature-meeting-bda-business-debtors-anonymous/2026-03-13/
CATEGORIES:Online Meetings
END:VEVENT
BEGIN:VEVENT
DTSTART;TZID=Europe/London:20260306T073000
DTEND;TZID=Europe/London:20260306T083000
DTSTAMP:20260424T020207
CREATED:20220203T172534Z
LAST-MODIFIED:20220203T172534Z
UID:46904-1772782200-1772785800@debtorsanonymous.org.uk
SUMMARY:Step and Literature Meeting: BDA (Online)
DESCRIPTION:JOIN ZOOM MEETING \nThis is a closed meeting\, open to those who have desire to stop incurring new unsecured debt. You will be asked to kindly turn on your camera. If you do not wish to use the camera\, we suggest you try one of the other phone or online meetings available. Exceptions can be made on request. \nContact email: FridayBDAzoom AT gmail.com \nDownload the BDA Zoom meeting Group PI template
URL:https://debtorsanonymous.org.uk/meeting/step-and-literature-meeting-bda-business-debtors-anonymous/2026-03-06/
CATEGORIES:Online Meetings
END:VEVENT
BEGIN:VEVENT
DTSTART;TZID=Europe/London:20260227T073000
DTEND;TZID=Europe/London:20260227T083000
DTSTAMP:20260424T020207
CREATED:20220203T172534Z
LAST-MODIFIED:20220203T172534Z
UID:46535-1772177400-1772181000@debtorsanonymous.org.uk
SUMMARY:Step and Literature Meeting: BDA (Online)
DESCRIPTION:JOIN ZOOM MEETING \nThis is a closed meeting\, open to those who have desire to stop incurring new unsecured debt. You will be asked to kindly turn on your camera. If you do not wish to use the camera\, we suggest you try one of the other phone or online meetings available. Exceptions can be made on request. \nContact email: FridayBDAzoom AT gmail.com \nDownload the BDA Zoom meeting Group PI template
URL:https://debtorsanonymous.org.uk/meeting/step-and-literature-meeting-bda-business-debtors-anonymous/2026-02-27/
CATEGORIES:Online Meetings
END:VEVENT
BEGIN:VEVENT
DTSTART;TZID=Europe/London:20260220T073000
DTEND;TZID=Europe/London:20260220T083000
DTSTAMP:20260424T020207
CREATED:20220203T172534Z
LAST-MODIFIED:20220203T172534Z
UID:46461-1771572600-1771576200@debtorsanonymous.org.uk
SUMMARY:Step and Literature Meeting: BDA (Online)
DESCRIPTION:JOIN ZOOM MEETING \nThis is a closed meeting\, open to those who have desire to stop incurring new unsecured debt. You will be asked to kindly turn on your camera. If you do not wish to use the camera\, we suggest you try one of the other phone or online meetings available. Exceptions can be made on request. \nContact email: FridayBDAzoom AT gmail.com \nDownload the BDA Zoom meeting Group PI template
URL:https://debtorsanonymous.org.uk/meeting/step-and-literature-meeting-bda-business-debtors-anonymous/2026-02-20/
CATEGORIES:Online Meetings
END:VEVENT
BEGIN:VEVENT
DTSTART;TZID=Europe/London:20260213T073000
DTEND;TZID=Europe/London:20260213T083000
DTSTAMP:20260424T020207
CREATED:20220203T172534Z
LAST-MODIFIED:20220203T172534Z
UID:46318-1770967800-1770971400@debtorsanonymous.org.uk
SUMMARY:Step and Literature Meeting: BDA (Online)
DESCRIPTION:JOIN ZOOM MEETING \nThis is a closed meeting\, open to those who have desire to stop incurring new unsecured debt. You will be asked to kindly turn on your camera. If you do not wish to use the camera\, we suggest you try one of the other phone or online meetings available. Exceptions can be made on request. \nContact email: FridayBDAzoom AT gmail.com \nDownload the BDA Zoom meeting Group PI template
URL:https://debtorsanonymous.org.uk/meeting/step-and-literature-meeting-bda-business-debtors-anonymous/2026-02-13/
CATEGORIES:Online Meetings
END:VEVENT
BEGIN:VEVENT
DTSTART;TZID=Europe/London:20260206T073000
DTEND;TZID=Europe/London:20260206T083000
DTSTAMP:20260424T020207
CREATED:20220203T172534Z
LAST-MODIFIED:20220203T172534Z
UID:46180-1770363000-1770366600@debtorsanonymous.org.uk
SUMMARY:Step and Literature Meeting: BDA (Online)
DESCRIPTION:JOIN ZOOM MEETING \nThis is a closed meeting\, open to those who have desire to stop incurring new unsecured debt. You will be asked to kindly turn on your camera. If you do not wish to use the camera\, we suggest you try one of the other phone or online meetings available. Exceptions can be made on request. \nContact email: FridayBDAzoom AT gmail.com \nDownload the BDA Zoom meeting Group PI template
URL:https://debtorsanonymous.org.uk/meeting/step-and-literature-meeting-bda-business-debtors-anonymous/2026-02-06/
CATEGORIES:Online Meetings
END:VEVENT
BEGIN:VEVENT
DTSTART;TZID=Europe/London:20260130T073000
DTEND;TZID=Europe/London:20260130T083000
DTSTAMP:20260424T020207
CREATED:20220203T172534Z
LAST-MODIFIED:20220203T172534Z
UID:46104-1769758200-1769761800@debtorsanonymous.org.uk
SUMMARY:Step and Literature Meeting: BDA (Online)
DESCRIPTION:JOIN ZOOM MEETING \nThis is a closed meeting\, open to those who have desire to stop incurring new unsecured debt. You will be asked to kindly turn on your camera. If you do not wish to use the camera\, we suggest you try one of the other phone or online meetings available. Exceptions can be made on request. \nContact email: FridayBDAzoom AT gmail.com \nDownload the BDA Zoom meeting Group PI template
URL:https://debtorsanonymous.org.uk/meeting/step-and-literature-meeting-bda-business-debtors-anonymous/2026-01-30/
CATEGORIES:Online Meetings
END:VEVENT
BEGIN:VEVENT
DTSTART;TZID=Europe/London:20260123T073000
DTEND;TZID=Europe/London:20260123T083000
DTSTAMP:20260424T020207
CREATED:20220203T172534Z
LAST-MODIFIED:20220203T172534Z
UID:46027-1769153400-1769157000@debtorsanonymous.org.uk
SUMMARY:Step and Literature Meeting: BDA (Online)
DESCRIPTION:JOIN ZOOM MEETING \nThis is a closed meeting\, open to those who have desire to stop incurring new unsecured debt. You will be asked to kindly turn on your camera. If you do not wish to use the camera\, we suggest you try one of the other phone or online meetings available. Exceptions can be made on request. \nContact email: FridayBDAzoom AT gmail.com \nDownload the BDA Zoom meeting Group PI template
URL:https://debtorsanonymous.org.uk/meeting/step-and-literature-meeting-bda-business-debtors-anonymous/2026-01-23/
CATEGORIES:Online Meetings
END:VEVENT
BEGIN:VEVENT
DTSTART;TZID=Europe/London:20260116T073000
DTEND;TZID=Europe/London:20260116T083000
DTSTAMP:20260424T020207
CREATED:20220203T172534Z
LAST-MODIFIED:20220203T172534Z
UID:45846-1768548600-1768552200@debtorsanonymous.org.uk
SUMMARY:Step and Literature Meeting: BDA (Online)
DESCRIPTION:JOIN ZOOM MEETING \nThis is a closed meeting\, open to those who have desire to stop incurring new unsecured debt. You will be asked to kindly turn on your camera. If you do not wish to use the camera\, we suggest you try one of the other phone or online meetings available. Exceptions can be made on request. \nContact email: FridayBDAzoom AT gmail.com \nDownload the BDA Zoom meeting Group PI template
URL:https://debtorsanonymous.org.uk/meeting/step-and-literature-meeting-bda-business-debtors-anonymous/2026-01-16/
CATEGORIES:Online Meetings
END:VEVENT
BEGIN:VEVENT
DTSTART;TZID=Europe/London:20260109T073000
DTEND;TZID=Europe/London:20260109T083000
DTSTAMP:20260424T020207
CREATED:20220203T172534Z
LAST-MODIFIED:20220203T172534Z
UID:45625-1767943800-1767947400@debtorsanonymous.org.uk
SUMMARY:Step and Literature Meeting: BDA (Online)
DESCRIPTION:JOIN ZOOM MEETING \nThis is a closed meeting\, open to those who have desire to stop incurring new unsecured debt. You will be asked to kindly turn on your camera. If you do not wish to use the camera\, we suggest you try one of the other phone or online meetings available. Exceptions can be made on request. \nContact email: FridayBDAzoom AT gmail.com \nDownload the BDA Zoom meeting Group PI template
URL:https://debtorsanonymous.org.uk/meeting/step-and-literature-meeting-bda-business-debtors-anonymous/2026-01-09/
CATEGORIES:Online Meetings
END:VEVENT
BEGIN:VEVENT
DTSTART;TZID=Europe/London:20260102T073000
DTEND;TZID=Europe/London:20260102T083000
DTSTAMP:20260424T020207
CREATED:20220203T172534Z
LAST-MODIFIED:20220203T172534Z
UID:45427-1767339000-1767342600@debtorsanonymous.org.uk
SUMMARY:Step and Literature Meeting: BDA (Online)
DESCRIPTION:JOIN ZOOM MEETING \nThis is a closed meeting\, open to those who have desire to stop incurring new unsecured debt. You will be asked to kindly turn on your camera. If you do not wish to use the camera\, we suggest you try one of the other phone or online meetings available. Exceptions can be made on request. \nContact email: FridayBDAzoom AT gmail.com \nDownload the BDA Zoom meeting Group PI template
URL:https://debtorsanonymous.org.uk/meeting/step-and-literature-meeting-bda-business-debtors-anonymous/2026-01-02/
CATEGORIES:Online Meetings
END:VEVENT
BEGIN:VEVENT
DTSTART;TZID=Europe/London:20251226T073000
DTEND;TZID=Europe/London:20251226T083000
DTSTAMP:20260424T020207
CREATED:20220203T172534Z
LAST-MODIFIED:20220203T172534Z
UID:45334-1766734200-1766737800@debtorsanonymous.org.uk
SUMMARY:Step and Literature Meeting: BDA (Online)
DESCRIPTION:JOIN ZOOM MEETING \nThis is a closed meeting\, open to those who have desire to stop incurring new unsecured debt. You will be asked to kindly turn on your camera. If you do not wish to use the camera\, we suggest you try one of the other phone or online meetings available. Exceptions can be made on request. \nContact email: FridayBDAzoom AT gmail.com \nDownload the BDA Zoom meeting Group PI template
URL:https://debtorsanonymous.org.uk/meeting/step-and-literature-meeting-bda-business-debtors-anonymous/2025-12-26/
CATEGORIES:Online Meetings
END:VEVENT
BEGIN:VEVENT
DTSTART;TZID=Europe/London:20251219T073000
DTEND;TZID=Europe/London:20251219T083000
DTSTAMP:20260424T020207
CREATED:20220203T172534Z
LAST-MODIFIED:20220203T172534Z
UID:45259-1766129400-1766133000@debtorsanonymous.org.uk
SUMMARY:Step and Literature Meeting: BDA (Online)
DESCRIPTION:JOIN ZOOM MEETING \nThis is a closed meeting\, open to those who have desire to stop incurring new unsecured debt. You will be asked to kindly turn on your camera. If you do not wish to use the camera\, we suggest you try one of the other phone or online meetings available. Exceptions can be made on request. \nContact email: FridayBDAzoom AT gmail.com \nDownload the BDA Zoom meeting Group PI template
URL:https://debtorsanonymous.org.uk/meeting/step-and-literature-meeting-bda-business-debtors-anonymous/2025-12-19/
CATEGORIES:Online Meetings
END:VEVENT
BEGIN:VEVENT
DTSTART;TZID=Europe/London:20251212T073000
DTEND;TZID=Europe/London:20251212T083000
DTSTAMP:20260424T020207
CREATED:20220203T172534Z
LAST-MODIFIED:20220203T172534Z
UID:45180-1765524600-1765528200@debtorsanonymous.org.uk
SUMMARY:Step and Literature Meeting: BDA (Online)
DESCRIPTION:JOIN ZOOM MEETING \nThis is a closed meeting\, open to those who have desire to stop incurring new unsecured debt. You will be asked to kindly turn on your camera. If you do not wish to use the camera\, we suggest you try one of the other phone or online meetings available. Exceptions can be made on request. \nContact email: FridayBDAzoom AT gmail.com \nDownload the BDA Zoom meeting Group PI template
URL:https://debtorsanonymous.org.uk/meeting/step-and-literature-meeting-bda-business-debtors-anonymous/2025-12-12/
CATEGORIES:Online Meetings
END:VEVENT
BEGIN:VEVENT
DTSTART;TZID=Europe/London:20251205T073000
DTEND;TZID=Europe/London:20251205T083000
DTSTAMP:20260424T020207
CREATED:20220203T172534Z
LAST-MODIFIED:20220203T172534Z
UID:45105-1764919800-1764923400@debtorsanonymous.org.uk
SUMMARY:Step and Literature Meeting: BDA (Online)
DESCRIPTION:JOIN ZOOM MEETING \nThis is a closed meeting\, open to those who have desire to stop incurring new unsecured debt. You will be asked to kindly turn on your camera. If you do not wish to use the camera\, we suggest you try one of the other phone or online meetings available. Exceptions can be made on request. \nContact email: FridayBDAzoom AT gmail.com \nDownload the BDA Zoom meeting Group PI template
URL:https://debtorsanonymous.org.uk/meeting/step-and-literature-meeting-bda-business-debtors-anonymous/2025-12-05/
CATEGORIES:Online Meetings
END:VEVENT
BEGIN:VEVENT
DTSTART;TZID=Europe/London:20251128T073000
DTEND;TZID=Europe/London:20251128T083000
DTSTAMP:20260424T020207
CREATED:20220203T172534Z
LAST-MODIFIED:20220203T172534Z
UID:44602-1764315000-1764318600@debtorsanonymous.org.uk
SUMMARY:Step and Literature Meeting: BDA (Online)
DESCRIPTION:JOIN ZOOM MEETING \nThis is a closed meeting\, open to those who have desire to stop incurring new unsecured debt. You will be asked to kindly turn on your camera. If you do not wish to use the camera\, we suggest you try one of the other phone or online meetings available. Exceptions can be made on request. \nContact email: FridayBDAzoom AT gmail.com \nDownload the BDA Zoom meeting Group PI template
URL:https://debtorsanonymous.org.uk/meeting/step-and-literature-meeting-bda-business-debtors-anonymous/2025-11-28/
CATEGORIES:Online Meetings
END:VEVENT
BEGIN:VEVENT
DTSTART;TZID=Europe/London:20251121T073000
DTEND;TZID=Europe/London:20251121T083000
DTSTAMP:20260424T020207
CREATED:20220203T172534Z
LAST-MODIFIED:20220203T172534Z
UID:44530-1763710200-1763713800@debtorsanonymous.org.uk
SUMMARY:Step and Literature Meeting: BDA (Online)
DESCRIPTION:JOIN ZOOM MEETING \nThis is a closed meeting\, open to those who have desire to stop incurring new unsecured debt. You will be asked to kindly turn on your camera. If you do not wish to use the camera\, we suggest you try one of the other phone or online meetings available. Exceptions can be made on request. \nContact email: FridayBDAzoom AT gmail.com \nDownload the BDA Zoom meeting Group PI template
URL:https://debtorsanonymous.org.uk/meeting/step-and-literature-meeting-bda-business-debtors-anonymous/2025-11-21/
CATEGORIES:Online Meetings
END:VEVENT
BEGIN:VEVENT
DTSTART;TZID=Europe/London:20251114T073000
DTEND;TZID=Europe/London:20251114T083000
DTSTAMP:20260424T020207
CREATED:20220203T172534Z
LAST-MODIFIED:20220203T172534Z
UID:44454-1763105400-1763109000@debtorsanonymous.org.uk
SUMMARY:Step and Literature Meeting: BDA (Online)
DESCRIPTION:JOIN ZOOM MEETING \nThis is a closed meeting\, open to those who have desire to stop incurring new unsecured debt. You will be asked to kindly turn on your camera. If you do not wish to use the camera\, we suggest you try one of the other phone or online meetings available. Exceptions can be made on request. \nContact email: FridayBDAzoom AT gmail.com \nDownload the BDA Zoom meeting Group PI template
URL:https://debtorsanonymous.org.uk/meeting/step-and-literature-meeting-bda-business-debtors-anonymous/2025-11-14/
CATEGORIES:Online Meetings
END:VEVENT
BEGIN:VEVENT
DTSTART;TZID=Europe/London:20251107T073000
DTEND;TZID=Europe/London:20251107T083000
DTSTAMP:20260424T020207
CREATED:20220203T172534Z
LAST-MODIFIED:20220203T172534Z
UID:44379-1762500600-1762504200@debtorsanonymous.org.uk
SUMMARY:Step and Literature Meeting: BDA (Online)
DESCRIPTION:JOIN ZOOM MEETING \nThis is a closed meeting\, open to those who have desire to stop incurring new unsecured debt. You will be asked to kindly turn on your camera. If you do not wish to use the camera\, we suggest you try one of the other phone or online meetings available. Exceptions can be made on request. \nContact email: FridayBDAzoom AT gmail.com \nDownload the BDA Zoom meeting Group PI template
URL:https://debtorsanonymous.org.uk/meeting/step-and-literature-meeting-bda-business-debtors-anonymous/2025-11-07/
CATEGORIES:Online Meetings
END:VEVENT
BEGIN:VEVENT
DTSTART;TZID=Europe/London:20251031T073000
DTEND;TZID=Europe/London:20251031T083000
DTSTAMP:20260424T020207
CREATED:20220203T172534Z
LAST-MODIFIED:20220203T172534Z
UID:44303-1761895800-1761899400@debtorsanonymous.org.uk
SUMMARY:Step and Literature Meeting: BDA (Online)
DESCRIPTION:JOIN ZOOM MEETING \nThis is a closed meeting\, open to those who have desire to stop incurring new unsecured debt. You will be asked to kindly turn on your camera. If you do not wish to use the camera\, we suggest you try one of the other phone or online meetings available. Exceptions can be made on request. \nContact email: FridayBDAzoom AT gmail.com \nDownload the BDA Zoom meeting Group PI template
URL:https://debtorsanonymous.org.uk/meeting/step-and-literature-meeting-bda-business-debtors-anonymous/2025-10-31/
CATEGORIES:Online Meetings
END:VEVENT
BEGIN:VEVENT
DTSTART;TZID=Europe/London:20251024T073000
DTEND;TZID=Europe/London:20251024T083000
DTSTAMP:20260424T020207
CREATED:20220203T172534Z
LAST-MODIFIED:20220203T172534Z
UID:44223-1761291000-1761294600@debtorsanonymous.org.uk
SUMMARY:Step and Literature Meeting: BDA (Online)
DESCRIPTION:JOIN ZOOM MEETING \nThis is a closed meeting\, open to those who have desire to stop incurring new unsecured debt. You will be asked to kindly turn on your camera. If you do not wish to use the camera\, we suggest you try one of the other phone or online meetings available. Exceptions can be made on request. \nContact email: FridayBDAzoom AT gmail.com \nDownload the BDA Zoom meeting Group PI template
URL:https://debtorsanonymous.org.uk/meeting/step-and-literature-meeting-bda-business-debtors-anonymous/2025-10-24/
CATEGORIES:Online Meetings
END:VEVENT
BEGIN:VEVENT
DTSTART;TZID=Europe/London:20251017T073000
DTEND;TZID=Europe/London:20251017T083000
DTSTAMP:20260424T020207
CREATED:20220203T172534Z
LAST-MODIFIED:20220203T172534Z
UID:43451-1760686200-1760689800@debtorsanonymous.org.uk
SUMMARY:Step and Literature Meeting: BDA (Online)
DESCRIPTION:JOIN ZOOM MEETING \nThis is a closed meeting\, open to those who have desire to stop incurring new unsecured debt. You will be asked to kindly turn on your camera. If you do not wish to use the camera\, we suggest you try one of the other phone or online meetings available. Exceptions can be made on request. \nContact email: FridayBDAzoom AT gmail.com \nDownload the BDA Zoom meeting Group PI template
URL:https://debtorsanonymous.org.uk/meeting/step-and-literature-meeting-bda-business-debtors-anonymous/2025-10-17/
CATEGORIES:Online Meetings
END:VEVENT
BEGIN:VEVENT
DTSTART;TZID=Europe/London:20251010T073000
DTEND;TZID=Europe/London:20251010T083000
DTSTAMP:20260424T020207
CREATED:20220203T172534Z
LAST-MODIFIED:20220203T172534Z
UID:43379-1760081400-1760085000@debtorsanonymous.org.uk
SUMMARY:Step and Literature Meeting: BDA (Online)
DESCRIPTION:JOIN ZOOM MEETING \nThis is a closed meeting\, open to those who have desire to stop incurring new unsecured debt. You will be asked to kindly turn on your camera. If you do not wish to use the camera\, we suggest you try one of the other phone or online meetings available. Exceptions can be made on request. \nContact email: FridayBDAzoom AT gmail.com \nDownload the BDA Zoom meeting Group PI template
URL:https://debtorsanonymous.org.uk/meeting/step-and-literature-meeting-bda-business-debtors-anonymous/2025-10-10/
CATEGORIES:Online Meetings
END:VEVENT
BEGIN:VEVENT
DTSTART;TZID=Europe/London:20251003T073000
DTEND;TZID=Europe/London:20251003T083000
DTSTAMP:20260424T020207
CREATED:20220203T172534Z
LAST-MODIFIED:20220203T172534Z
UID:43278-1759476600-1759480200@debtorsanonymous.org.uk
SUMMARY:Step and Literature Meeting: BDA (Online)
DESCRIPTION:JOIN ZOOM MEETING \nThis is a closed meeting\, open to those who have desire to stop incurring new unsecured debt. You will be asked to kindly turn on your camera. If you do not wish to use the camera\, we suggest you try one of the other phone or online meetings available. Exceptions can be made on request. \nContact email: FridayBDAzoom AT gmail.com \nDownload the BDA Zoom meeting Group PI template
URL:https://debtorsanonymous.org.uk/meeting/step-and-literature-meeting-bda-business-debtors-anonymous/2025-10-03/
CATEGORIES:Online Meetings
END:VEVENT
BEGIN:VEVENT
DTSTART;TZID=Europe/London:20250926T073000
DTEND;TZID=Europe/London:20250926T083000
DTSTAMP:20260424T020207
CREATED:20220203T172534Z
LAST-MODIFIED:20220203T172534Z
UID:43203-1758871800-1758875400@debtorsanonymous.org.uk
SUMMARY:Step and Literature Meeting: BDA (Online)
DESCRIPTION:JOIN ZOOM MEETING \nThis is a closed meeting\, open to those who have desire to stop incurring new unsecured debt. You will be asked to kindly turn on your camera. If you do not wish to use the camera\, we suggest you try one of the other phone or online meetings available. Exceptions can be made on request. \nContact email: FridayBDAzoom AT gmail.com \nDownload the BDA Zoom meeting Group PI template
URL:https://debtorsanonymous.org.uk/meeting/step-and-literature-meeting-bda-business-debtors-anonymous/2025-09-26/
CATEGORIES:Online Meetings
END:VEVENT
END:VCALENDAR