BEGIN:VCALENDAR
VERSION:2.0
PRODID:-//Debtors Anonymous UK - ECPv6.0.5//NONSGML v1.0//EN
CALSCALE:GREGORIAN
METHOD:PUBLISH
X-WR-CALNAME:Debtors Anonymous UK
X-ORIGINAL-URL:https://debtorsanonymous.org.uk
X-WR-CALDESC:Events for Debtors Anonymous UK
REFRESH-INTERVAL;VALUE=DURATION:PT1H
X-Robots-Tag:noindex
X-PUBLISHED-TTL:PT1H
BEGIN:VTIMEZONE
TZID:Europe/London
BEGIN:DAYLIGHT
TZOFFSETFROM:+0000
TZOFFSETTO:+0100
TZNAME:BST
DTSTART:20260329T010000
END:DAYLIGHT
BEGIN:STANDARD
TZOFFSETFROM:+0100
TZOFFSETTO:+0000
TZNAME:GMT
DTSTART:20261025T010000
END:STANDARD
END:VTIMEZONE
BEGIN:VEVENT
DTSTART;TZID=Europe/London:20260428T090000
DTEND;TZID=Europe/London:20260428T100000
DTSTAMP:20260423T235312
CREATED:20250109T231238Z
LAST-MODIFIED:20250109T231238Z
UID:48591-1777366800-1777370400@debtorsanonymous.org.uk
SUMMARY:“Keep it Simple” - Debtors Anonymous
DESCRIPTION:“Keep it Simple”\nDebtors Anonymous \n9am – 10am \nTuesday \nCrypt Room 2\, St Mary’s Church\, Upper Street\, London\, N1 2TX\nFace-to-face / ‘open’ meeting 
URL:https://debtorsanonymous.org.uk/meeting/keep-it-simple-da-london/2026-04-28/
LOCATION:St Mary’s Church\, Upper St\, London\, N1 2TX
CATEGORIES:Meetings in London
END:VEVENT
BEGIN:VEVENT
DTSTART;TZID=Europe/London:20260505T090000
DTEND;TZID=Europe/London:20260505T100000
DTSTAMP:20260423T235312
CREATED:20250109T231238Z
LAST-MODIFIED:20250109T231238Z
UID:48670-1777971600-1777975200@debtorsanonymous.org.uk
SUMMARY:“Keep it Simple” - Debtors Anonymous
DESCRIPTION:“Keep it Simple”\nDebtors Anonymous \n9am – 10am \nTuesday \nCrypt Room 2\, St Mary’s Church\, Upper Street\, London\, N1 2TX\nFace-to-face / ‘open’ meeting 
URL:https://debtorsanonymous.org.uk/meeting/keep-it-simple-da-london/2026-05-05/
LOCATION:St Mary’s Church\, Upper St\, London\, N1 2TX
CATEGORIES:Meetings in London
END:VEVENT
BEGIN:VEVENT
DTSTART;TZID=Europe/London:20260512T090000
DTEND;TZID=Europe/London:20260512T100000
DTSTAMP:20260423T235312
CREATED:20250109T231238Z
LAST-MODIFIED:20250109T231238Z
UID:48745-1778576400-1778580000@debtorsanonymous.org.uk
SUMMARY:“Keep it Simple” - Debtors Anonymous
DESCRIPTION:“Keep it Simple”\nDebtors Anonymous \n9am – 10am \nTuesday \nCrypt Room 2\, St Mary’s Church\, Upper Street\, London\, N1 2TX\nFace-to-face / ‘open’ meeting 
URL:https://debtorsanonymous.org.uk/meeting/keep-it-simple-da-london/2026-05-12/
LOCATION:St Mary’s Church\, Upper St\, London\, N1 2TX
CATEGORIES:Meetings in London
END:VEVENT
BEGIN:VEVENT
DTSTART;TZID=Europe/London:20260519T090000
DTEND;TZID=Europe/London:20260519T100000
DTSTAMP:20260423T235312
CREATED:20250109T231238Z
LAST-MODIFIED:20250109T231238Z
UID:48816-1779181200-1779184800@debtorsanonymous.org.uk
SUMMARY:“Keep it Simple” - Debtors Anonymous
DESCRIPTION:“Keep it Simple”\nDebtors Anonymous \n9am – 10am \nTuesday \nCrypt Room 2\, St Mary’s Church\, Upper Street\, London\, N1 2TX\nFace-to-face / ‘open’ meeting 
URL:https://debtorsanonymous.org.uk/meeting/keep-it-simple-da-london/2026-05-19/
LOCATION:St Mary’s Church\, Upper St\, London\, N1 2TX
CATEGORIES:Meetings in London
END:VEVENT
BEGIN:VEVENT
DTSTART;TZID=Europe/London:20260526T090000
DTEND;TZID=Europe/London:20260526T100000
DTSTAMP:20260423T235312
CREATED:20250109T231238Z
LAST-MODIFIED:20250109T231238Z
UID:48887-1779786000-1779789600@debtorsanonymous.org.uk
SUMMARY:“Keep it Simple” - Debtors Anonymous
DESCRIPTION:“Keep it Simple”\nDebtors Anonymous \n9am – 10am \nTuesday \nCrypt Room 2\, St Mary’s Church\, Upper Street\, London\, N1 2TX\nFace-to-face / ‘open’ meeting 
URL:https://debtorsanonymous.org.uk/meeting/keep-it-simple-da-london/2026-05-26/
LOCATION:St Mary’s Church\, Upper St\, London\, N1 2TX
CATEGORIES:Meetings in London
END:VEVENT
BEGIN:VEVENT
DTSTART;TZID=Europe/London:20260602T090000
DTEND;TZID=Europe/London:20260602T100000
DTSTAMP:20260423T235312
CREATED:20250109T231238Z
LAST-MODIFIED:20250109T231238Z
UID:48958-1780390800-1780394400@debtorsanonymous.org.uk
SUMMARY:“Keep it Simple” - Debtors Anonymous
DESCRIPTION:“Keep it Simple”\nDebtors Anonymous \n9am – 10am \nTuesday \nCrypt Room 2\, St Mary’s Church\, Upper Street\, London\, N1 2TX\nFace-to-face / ‘open’ meeting 
URL:https://debtorsanonymous.org.uk/meeting/keep-it-simple-da-london/2026-06-02/
LOCATION:St Mary’s Church\, Upper St\, London\, N1 2TX
CATEGORIES:Meetings in London
END:VEVENT
BEGIN:VEVENT
DTSTART;TZID=Europe/London:20260609T090000
DTEND;TZID=Europe/London:20260609T100000
DTSTAMP:20260423T235312
CREATED:20250109T231238Z
LAST-MODIFIED:20250109T231238Z
UID:49246-1780995600-1780999200@debtorsanonymous.org.uk
SUMMARY:“Keep it Simple” - Debtors Anonymous
DESCRIPTION:“Keep it Simple”\nDebtors Anonymous \n9am – 10am \nTuesday \nCrypt Room 2\, St Mary’s Church\, Upper Street\, London\, N1 2TX\nFace-to-face / ‘open’ meeting 
URL:https://debtorsanonymous.org.uk/meeting/keep-it-simple-da-london/2026-06-09/
LOCATION:St Mary’s Church\, Upper St\, London\, N1 2TX
CATEGORIES:Meetings in London
END:VEVENT
BEGIN:VEVENT
DTSTART;TZID=Europe/London:20260616T090000
DTEND;TZID=Europe/London:20260616T100000
DTSTAMP:20260423T235312
CREATED:20250109T231238Z
LAST-MODIFIED:20250109T231238Z
UID:49328-1781600400-1781604000@debtorsanonymous.org.uk
SUMMARY:“Keep it Simple” - Debtors Anonymous
DESCRIPTION:“Keep it Simple”\nDebtors Anonymous \n9am – 10am \nTuesday \nCrypt Room 2\, St Mary’s Church\, Upper Street\, London\, N1 2TX\nFace-to-face / ‘open’ meeting 
URL:https://debtorsanonymous.org.uk/meeting/keep-it-simple-da-london/2026-06-16/
LOCATION:St Mary’s Church\, Upper St\, London\, N1 2TX
CATEGORIES:Meetings in London
END:VEVENT
BEGIN:VEVENT
DTSTART;TZID=Europe/London:20260623T090000
DTEND;TZID=Europe/London:20260623T100000
DTSTAMP:20260423T235312
CREATED:20250109T231238Z
LAST-MODIFIED:20250109T231238Z
UID:49401-1782205200-1782208800@debtorsanonymous.org.uk
SUMMARY:“Keep it Simple” - Debtors Anonymous
DESCRIPTION:“Keep it Simple”\nDebtors Anonymous \n9am – 10am \nTuesday \nCrypt Room 2\, St Mary’s Church\, Upper Street\, London\, N1 2TX\nFace-to-face / ‘open’ meeting 
URL:https://debtorsanonymous.org.uk/meeting/keep-it-simple-da-london/2026-06-23/
LOCATION:St Mary’s Church\, Upper St\, London\, N1 2TX
CATEGORIES:Meetings in London
END:VEVENT
BEGIN:VEVENT
DTSTART;TZID=Europe/London:20260630T090000
DTEND;TZID=Europe/London:20260630T100000
DTSTAMP:20260423T235312
CREATED:20250109T231238Z
LAST-MODIFIED:20250109T231238Z
UID:49473-1782810000-1782813600@debtorsanonymous.org.uk
SUMMARY:“Keep it Simple” - Debtors Anonymous
DESCRIPTION:“Keep it Simple”\nDebtors Anonymous \n9am – 10am \nTuesday \nCrypt Room 2\, St Mary’s Church\, Upper Street\, London\, N1 2TX\nFace-to-face / ‘open’ meeting 
URL:https://debtorsanonymous.org.uk/meeting/keep-it-simple-da-london/2026-06-30/
LOCATION:St Mary’s Church\, Upper St\, London\, N1 2TX
CATEGORIES:Meetings in London
END:VEVENT
BEGIN:VEVENT
DTSTART;TZID=Europe/London:20260707T090000
DTEND;TZID=Europe/London:20260707T100000
DTSTAMP:20260423T235312
CREATED:20250109T231238Z
LAST-MODIFIED:20250109T231238Z
UID:49862-1783414800-1783418400@debtorsanonymous.org.uk
SUMMARY:“Keep it Simple” - Debtors Anonymous
DESCRIPTION:“Keep it Simple”\nDebtors Anonymous \n9am – 10am \nTuesday \nCrypt Room 2\, St Mary’s Church\, Upper Street\, London\, N1 2TX\nFace-to-face / ‘open’ meeting 
URL:https://debtorsanonymous.org.uk/meeting/keep-it-simple-da-london/2026-07-07/
LOCATION:St Mary’s Church\, Upper St\, London\, N1 2TX
CATEGORIES:Meetings in London
END:VEVENT
BEGIN:VEVENT
DTSTART;TZID=Europe/London:20260714T090000
DTEND;TZID=Europe/London:20260714T100000
DTSTAMP:20260423T235312
CREATED:20250109T231238Z
LAST-MODIFIED:20250109T231238Z
UID:49937-1784019600-1784023200@debtorsanonymous.org.uk
SUMMARY:“Keep it Simple” - Debtors Anonymous
DESCRIPTION:“Keep it Simple”\nDebtors Anonymous \n9am – 10am \nTuesday \nCrypt Room 2\, St Mary’s Church\, Upper Street\, London\, N1 2TX\nFace-to-face / ‘open’ meeting 
URL:https://debtorsanonymous.org.uk/meeting/keep-it-simple-da-london/2026-07-14/
LOCATION:St Mary’s Church\, Upper St\, London\, N1 2TX
CATEGORIES:Meetings in London
END:VEVENT
BEGIN:VEVENT
DTSTART;TZID=Europe/London:20260721T090000
DTEND;TZID=Europe/London:20260721T100000
DTSTAMP:20260423T235312
CREATED:20250109T231238Z
LAST-MODIFIED:20250109T231238Z
UID:50010-1784624400-1784628000@debtorsanonymous.org.uk
SUMMARY:“Keep it Simple” - Debtors Anonymous
DESCRIPTION:“Keep it Simple”\nDebtors Anonymous \n9am – 10am \nTuesday \nCrypt Room 2\, St Mary’s Church\, Upper Street\, London\, N1 2TX\nFace-to-face / ‘open’ meeting 
URL:https://debtorsanonymous.org.uk/meeting/keep-it-simple-da-london/2026-07-21/
LOCATION:St Mary’s Church\, Upper St\, London\, N1 2TX
CATEGORIES:Meetings in London
END:VEVENT
BEGIN:VEVENT
DTSTART;TZID=Europe/London:20260728T090000
DTEND;TZID=Europe/London:20260728T100000
DTSTAMP:20260423T235312
CREATED:20250109T231238Z
LAST-MODIFIED:20250109T231238Z
UID:50083-1785229200-1785232800@debtorsanonymous.org.uk
SUMMARY:“Keep it Simple” - Debtors Anonymous
DESCRIPTION:“Keep it Simple”\nDebtors Anonymous \n9am – 10am \nTuesday \nCrypt Room 2\, St Mary’s Church\, Upper Street\, London\, N1 2TX\nFace-to-face / ‘open’ meeting 
URL:https://debtorsanonymous.org.uk/meeting/keep-it-simple-da-london/2026-07-28/
LOCATION:St Mary’s Church\, Upper St\, London\, N1 2TX
CATEGORIES:Meetings in London
END:VEVENT
BEGIN:VEVENT
DTSTART;TZID=Europe/London:20260804T090000
DTEND;TZID=Europe/London:20260804T100000
DTSTAMP:20260423T235312
CREATED:20250109T231238Z
LAST-MODIFIED:20250109T231238Z
UID:50158-1785834000-1785837600@debtorsanonymous.org.uk
SUMMARY:“Keep it Simple” - Debtors Anonymous
DESCRIPTION:“Keep it Simple”\nDebtors Anonymous \n9am – 10am \nTuesday \nCrypt Room 2\, St Mary’s Church\, Upper Street\, London\, N1 2TX\nFace-to-face / ‘open’ meeting 
URL:https://debtorsanonymous.org.uk/meeting/keep-it-simple-da-london/2026-08-04/
LOCATION:St Mary’s Church\, Upper St\, London\, N1 2TX
CATEGORIES:Meetings in London
END:VEVENT
BEGIN:VEVENT
DTSTART;TZID=Europe/London:20260811T090000
DTEND;TZID=Europe/London:20260811T100000
DTSTAMP:20260423T235312
CREATED:20250109T231238Z
LAST-MODIFIED:20250109T231238Z
UID:50406-1786438800-1786442400@debtorsanonymous.org.uk
SUMMARY:“Keep it Simple” - Debtors Anonymous
DESCRIPTION:“Keep it Simple”\nDebtors Anonymous \n9am – 10am \nTuesday \nCrypt Room 2\, St Mary’s Church\, Upper Street\, London\, N1 2TX\nFace-to-face / ‘open’ meeting 
URL:https://debtorsanonymous.org.uk/meeting/keep-it-simple-da-london/2026-08-11/
LOCATION:St Mary’s Church\, Upper St\, London\, N1 2TX
CATEGORIES:Meetings in London
END:VEVENT
BEGIN:VEVENT
DTSTART;TZID=Europe/London:20260818T090000
DTEND;TZID=Europe/London:20260818T100000
DTSTAMP:20260423T235312
CREATED:20250109T231238Z
LAST-MODIFIED:20250109T231238Z
UID:50479-1787043600-1787047200@debtorsanonymous.org.uk
SUMMARY:“Keep it Simple” - Debtors Anonymous
DESCRIPTION:“Keep it Simple”\nDebtors Anonymous \n9am – 10am \nTuesday \nCrypt Room 2\, St Mary’s Church\, Upper Street\, London\, N1 2TX\nFace-to-face / ‘open’ meeting 
URL:https://debtorsanonymous.org.uk/meeting/keep-it-simple-da-london/2026-08-18/
LOCATION:St Mary’s Church\, Upper St\, London\, N1 2TX
CATEGORIES:Meetings in London
END:VEVENT
BEGIN:VEVENT
DTSTART;TZID=Europe/London:20260825T090000
DTEND;TZID=Europe/London:20260825T100000
DTSTAMP:20260423T235312
CREATED:20250109T231238Z
LAST-MODIFIED:20250109T231238Z
UID:50751-1787648400-1787652000@debtorsanonymous.org.uk
SUMMARY:“Keep it Simple” - Debtors Anonymous
DESCRIPTION:“Keep it Simple”\nDebtors Anonymous \n9am – 10am \nTuesday \nCrypt Room 2\, St Mary’s Church\, Upper Street\, London\, N1 2TX\nFace-to-face / ‘open’ meeting 
URL:https://debtorsanonymous.org.uk/meeting/keep-it-simple-da-london/2026-08-25/
LOCATION:St Mary’s Church\, Upper St\, London\, N1 2TX
CATEGORIES:Meetings in London
END:VEVENT
BEGIN:VEVENT
DTSTART;TZID=Europe/London:20260901T090000
DTEND;TZID=Europe/London:20260901T100000
DTSTAMP:20260423T235312
CREATED:20250109T231238Z
LAST-MODIFIED:20250109T231238Z
UID:50824-1788253200-1788256800@debtorsanonymous.org.uk
SUMMARY:“Keep it Simple” - Debtors Anonymous
DESCRIPTION:“Keep it Simple”\nDebtors Anonymous \n9am – 10am \nTuesday \nCrypt Room 2\, St Mary’s Church\, Upper Street\, London\, N1 2TX\nFace-to-face / ‘open’ meeting 
URL:https://debtorsanonymous.org.uk/meeting/keep-it-simple-da-london/2026-09-01/
LOCATION:St Mary’s Church\, Upper St\, London\, N1 2TX
CATEGORIES:Meetings in London
END:VEVENT
BEGIN:VEVENT
DTSTART;TZID=Europe/London:20260908T090000
DTEND;TZID=Europe/London:20260908T100000
DTSTAMP:20260423T235312
CREATED:20250109T231238Z
LAST-MODIFIED:20250109T231238Z
UID:51643-1788858000-1788861600@debtorsanonymous.org.uk
SUMMARY:“Keep it Simple” - Debtors Anonymous
DESCRIPTION:“Keep it Simple”\nDebtors Anonymous \n9am – 10am \nTuesday \nCrypt Room 2\, St Mary’s Church\, Upper Street\, London\, N1 2TX\nFace-to-face / ‘open’ meeting 
URL:https://debtorsanonymous.org.uk/meeting/keep-it-simple-da-london/2026-09-08/
LOCATION:St Mary’s Church\, Upper St\, London\, N1 2TX
CATEGORIES:Meetings in London
END:VEVENT
BEGIN:VEVENT
DTSTART;TZID=Europe/London:20260915T090000
DTEND;TZID=Europe/London:20260915T100000
DTSTAMP:20260423T235312
CREATED:20250109T231238Z
LAST-MODIFIED:20250109T231238Z
UID:51716-1789462800-1789466400@debtorsanonymous.org.uk
SUMMARY:“Keep it Simple” - Debtors Anonymous
DESCRIPTION:“Keep it Simple”\nDebtors Anonymous \n9am – 10am \nTuesday \nCrypt Room 2\, St Mary’s Church\, Upper Street\, London\, N1 2TX\nFace-to-face / ‘open’ meeting 
URL:https://debtorsanonymous.org.uk/meeting/keep-it-simple-da-london/2026-09-15/
LOCATION:St Mary’s Church\, Upper St\, London\, N1 2TX
CATEGORIES:Meetings in London
END:VEVENT
BEGIN:VEVENT
DTSTART;TZID=Europe/London:20260922T090000
DTEND;TZID=Europe/London:20260922T100000
DTSTAMP:20260423T235312
CREATED:20250109T231238Z
LAST-MODIFIED:20250109T231238Z
UID:51790-1790067600-1790071200@debtorsanonymous.org.uk
SUMMARY:“Keep it Simple” - Debtors Anonymous
DESCRIPTION:“Keep it Simple”\nDebtors Anonymous \n9am – 10am \nTuesday \nCrypt Room 2\, St Mary’s Church\, Upper Street\, London\, N1 2TX\nFace-to-face / ‘open’ meeting 
URL:https://debtorsanonymous.org.uk/meeting/keep-it-simple-da-london/2026-09-22/
LOCATION:St Mary’s Church\, Upper St\, London\, N1 2TX
CATEGORIES:Meetings in London
END:VEVENT
BEGIN:VEVENT
DTSTART;TZID=Europe/London:20260929T090000
DTEND;TZID=Europe/London:20260929T100000
DTSTAMP:20260423T235312
CREATED:20250109T231238Z
LAST-MODIFIED:20250109T231238Z
UID:51863-1790672400-1790676000@debtorsanonymous.org.uk
SUMMARY:“Keep it Simple” - Debtors Anonymous
DESCRIPTION:“Keep it Simple”\nDebtors Anonymous \n9am – 10am \nTuesday \nCrypt Room 2\, St Mary’s Church\, Upper Street\, London\, N1 2TX\nFace-to-face / ‘open’ meeting 
URL:https://debtorsanonymous.org.uk/meeting/keep-it-simple-da-london/2026-09-29/
LOCATION:St Mary’s Church\, Upper St\, London\, N1 2TX
CATEGORIES:Meetings in London
END:VEVENT
BEGIN:VEVENT
DTSTART;TZID=Europe/London:20261006T090000
DTEND;TZID=Europe/London:20261006T100000
DTSTAMP:20260423T235312
CREATED:20250109T231238Z
LAST-MODIFIED:20250109T231238Z
UID:51931-1791277200-1791280800@debtorsanonymous.org.uk
SUMMARY:“Keep it Simple” - Debtors Anonymous
DESCRIPTION:“Keep it Simple”\nDebtors Anonymous \n9am – 10am \nTuesday \nCrypt Room 2\, St Mary’s Church\, Upper Street\, London\, N1 2TX\nFace-to-face / ‘open’ meeting 
URL:https://debtorsanonymous.org.uk/meeting/keep-it-simple-da-london/2026-10-06/
LOCATION:St Mary’s Church\, Upper St\, London\, N1 2TX
CATEGORIES:Meetings in London
END:VEVENT
BEGIN:VEVENT
DTSTART;TZID=Europe/London:20261013T090000
DTEND;TZID=Europe/London:20261013T100000
DTSTAMP:20260423T235312
CREATED:20250109T231238Z
LAST-MODIFIED:20250109T231238Z
UID:52001-1791882000-1791885600@debtorsanonymous.org.uk
SUMMARY:“Keep it Simple” - Debtors Anonymous
DESCRIPTION:“Keep it Simple”\nDebtors Anonymous \n9am – 10am \nTuesday \nCrypt Room 2\, St Mary’s Church\, Upper Street\, London\, N1 2TX\nFace-to-face / ‘open’ meeting 
URL:https://debtorsanonymous.org.uk/meeting/keep-it-simple-da-london/2026-10-13/
LOCATION:St Mary’s Church\, Upper St\, London\, N1 2TX
CATEGORIES:Meetings in London
END:VEVENT
BEGIN:VEVENT
DTSTART;TZID=Europe/London:20261020T090000
DTEND;TZID=Europe/London:20261020T100000
DTSTAMP:20260423T235312
CREATED:20250109T231238Z
LAST-MODIFIED:20250109T231238Z
UID:52066-1792486800-1792490400@debtorsanonymous.org.uk
SUMMARY:“Keep it Simple” - Debtors Anonymous
DESCRIPTION:“Keep it Simple”\nDebtors Anonymous \n9am – 10am \nTuesday \nCrypt Room 2\, St Mary’s Church\, Upper Street\, London\, N1 2TX\nFace-to-face / ‘open’ meeting 
URL:https://debtorsanonymous.org.uk/meeting/keep-it-simple-da-london/2026-10-20/
LOCATION:St Mary’s Church\, Upper St\, London\, N1 2TX
CATEGORIES:Meetings in London
END:VEVENT
BEGIN:VEVENT
DTSTART;TZID=Europe/London:20261027T090000
DTEND;TZID=Europe/London:20261027T100000
DTSTAMP:20260423T235312
CREATED:20250109T231238Z
LAST-MODIFIED:20250109T231238Z
UID:52144-1793091600-1793095200@debtorsanonymous.org.uk
SUMMARY:“Keep it Simple” - Debtors Anonymous
DESCRIPTION:“Keep it Simple”\nDebtors Anonymous \n9am – 10am \nTuesday \nCrypt Room 2\, St Mary’s Church\, Upper Street\, London\, N1 2TX\nFace-to-face / ‘open’ meeting 
URL:https://debtorsanonymous.org.uk/meeting/keep-it-simple-da-london/2026-10-27/
LOCATION:St Mary’s Church\, Upper St\, London\, N1 2TX
CATEGORIES:Meetings in London
END:VEVENT
BEGIN:VEVENT
DTSTART;TZID=Europe/London:20261103T090000
DTEND;TZID=Europe/London:20261103T100000
DTSTAMP:20260423T235312
CREATED:20250109T231238Z
LAST-MODIFIED:20250109T231238Z
UID:52313-1793696400-1793700000@debtorsanonymous.org.uk
SUMMARY:“Keep it Simple” - Debtors Anonymous
DESCRIPTION:“Keep it Simple”\nDebtors Anonymous \n9am – 10am \nTuesday \nCrypt Room 2\, St Mary’s Church\, Upper Street\, London\, N1 2TX\nFace-to-face / ‘open’ meeting 
URL:https://debtorsanonymous.org.uk/meeting/keep-it-simple-da-london/2026-11-03/
LOCATION:St Mary’s Church\, Upper St\, London\, N1 2TX
CATEGORIES:Meetings in London
END:VEVENT
BEGIN:VEVENT
DTSTART;TZID=Europe/London:20261110T090000
DTEND;TZID=Europe/London:20261110T100000
DTSTAMP:20260423T235312
CREATED:20250109T231238Z
LAST-MODIFIED:20250109T231238Z
UID:52697-1794301200-1794304800@debtorsanonymous.org.uk
SUMMARY:“Keep it Simple” - Debtors Anonymous
DESCRIPTION:“Keep it Simple”\nDebtors Anonymous \n9am – 10am \nTuesday \nCrypt Room 2\, St Mary’s Church\, Upper Street\, London\, N1 2TX\nFace-to-face / ‘open’ meeting 
URL:https://debtorsanonymous.org.uk/meeting/keep-it-simple-da-london/2026-11-10/
LOCATION:St Mary’s Church\, Upper St\, London\, N1 2TX
CATEGORIES:Meetings in London
END:VEVENT
BEGIN:VEVENT
DTSTART;TZID=Europe/London:20261117T090000
DTEND;TZID=Europe/London:20261117T100000
DTSTAMP:20260423T235312
CREATED:20250109T231238Z
LAST-MODIFIED:20250109T231238Z
UID:52970-1794906000-1794909600@debtorsanonymous.org.uk
SUMMARY:“Keep it Simple” - Debtors Anonymous
DESCRIPTION:“Keep it Simple”\nDebtors Anonymous \n9am – 10am \nTuesday \nCrypt Room 2\, St Mary’s Church\, Upper Street\, London\, N1 2TX\nFace-to-face / ‘open’ meeting 
URL:https://debtorsanonymous.org.uk/meeting/keep-it-simple-da-london/2026-11-17/
LOCATION:St Mary’s Church\, Upper St\, London\, N1 2TX
CATEGORIES:Meetings in London
END:VEVENT
END:VCALENDAR