BEGIN:VCALENDAR
VERSION:2.0
PRODID:-//Debtors Anonymous UK - ECPv6.0.5//NONSGML v1.0//EN
CALSCALE:GREGORIAN
METHOD:PUBLISH
X-WR-CALNAME:Debtors Anonymous UK
X-ORIGINAL-URL:https://debtorsanonymous.org.uk
X-WR-CALDESC:Events for Debtors Anonymous UK
REFRESH-INTERVAL;VALUE=DURATION:PT1H
X-Robots-Tag:noindex
X-PUBLISHED-TTL:PT1H
BEGIN:VTIMEZONE
TZID:Europe/London
BEGIN:DAYLIGHT
TZOFFSETFROM:+0000
TZOFFSETTO:+0100
TZNAME:BST
DTSTART:20260329T010000
END:DAYLIGHT
BEGIN:STANDARD
TZOFFSETFROM:+0100
TZOFFSETTO:+0000
TZNAME:GMT
DTSTART:20261025T010000
END:STANDARD
END:VTIMEZONE
BEGIN:VEVENT
DTSTART;TZID=Europe/London:20260423T180000
DTEND;TZID=Europe/London:20260423T190000
DTSTAMP:20260423T145129
CREATED:20220207T201414Z
LAST-MODIFIED:20220207T201414Z
UID:48536-1776967200-1776970800@debtorsanonymous.org.uk
SUMMARY:Debtors Anonymous: Frome (Online)
DESCRIPTION:JOIN ZOOM MEETING \nYou will be asked to kindly turn on your camera. If you do not wish to use the camera\, we suggest you try one of the other phone or online meetings available. Exceptions can be made on request. \nContact: \nKayleigh\n07497 264201\nedwardthefaun AT outlook.co.uk \nAndrea. B\n07958 519615\nabeveney AT hotmail.co.uk\n  \nNew Zoom meeting ID – 837 1688 5804\n\nNew Zoom Passcode – 238267
URL:https://debtorsanonymous.org.uk/meeting/debtors-anonymous-meeting-frome-2023-08-03/2026-04-23/
CATEGORIES:Online Meetings
END:VEVENT
BEGIN:VEVENT
DTSTART;TZID=Europe/London:20260430T180000
DTEND;TZID=Europe/London:20260430T190000
DTSTAMP:20260423T145129
CREATED:20220207T201414Z
LAST-MODIFIED:20220207T201414Z
UID:48620-1777572000-1777575600@debtorsanonymous.org.uk
SUMMARY:Debtors Anonymous: Frome (Online)
DESCRIPTION:JOIN ZOOM MEETING \nYou will be asked to kindly turn on your camera. If you do not wish to use the camera\, we suggest you try one of the other phone or online meetings available. Exceptions can be made on request. \nContact: \nKayleigh\n07497 264201\nedwardthefaun AT outlook.co.uk \nAndrea. B\n07958 519615\nabeveney AT hotmail.co.uk\n  \nNew Zoom meeting ID – 837 1688 5804\n\nNew Zoom Passcode – 238267
URL:https://debtorsanonymous.org.uk/meeting/debtors-anonymous-meeting-frome-2023-08-03/2026-04-30/
CATEGORIES:Online Meetings
END:VEVENT
BEGIN:VEVENT
DTSTART;TZID=Europe/London:20260507T180000
DTEND;TZID=Europe/London:20260507T190000
DTSTAMP:20260423T145129
CREATED:20220207T201414Z
LAST-MODIFIED:20220207T201414Z
UID:48695-1778176800-1778180400@debtorsanonymous.org.uk
SUMMARY:Debtors Anonymous: Frome (Online)
DESCRIPTION:JOIN ZOOM MEETING \nYou will be asked to kindly turn on your camera. If you do not wish to use the camera\, we suggest you try one of the other phone or online meetings available. Exceptions can be made on request. \nContact: \nKayleigh\n07497 264201\nedwardthefaun AT outlook.co.uk \nAndrea. B\n07958 519615\nabeveney AT hotmail.co.uk\n  \nNew Zoom meeting ID – 837 1688 5804\n\nNew Zoom Passcode – 238267
URL:https://debtorsanonymous.org.uk/meeting/debtors-anonymous-meeting-frome-2023-08-03/2026-05-07/
CATEGORIES:Online Meetings
END:VEVENT
BEGIN:VEVENT
DTSTART;TZID=Europe/London:20260514T180000
DTEND;TZID=Europe/London:20260514T190000
DTSTAMP:20260423T145129
CREATED:20220207T201414Z
LAST-MODIFIED:20220207T201414Z
UID:48767-1778781600-1778785200@debtorsanonymous.org.uk
SUMMARY:Debtors Anonymous: Frome (Online)
DESCRIPTION:JOIN ZOOM MEETING \nYou will be asked to kindly turn on your camera. If you do not wish to use the camera\, we suggest you try one of the other phone or online meetings available. Exceptions can be made on request. \nContact: \nKayleigh\n07497 264201\nedwardthefaun AT outlook.co.uk \nAndrea. B\n07958 519615\nabeveney AT hotmail.co.uk\n  \nNew Zoom meeting ID – 837 1688 5804\n\nNew Zoom Passcode – 238267
URL:https://debtorsanonymous.org.uk/meeting/debtors-anonymous-meeting-frome-2023-08-03/2026-05-14/
CATEGORIES:Online Meetings
END:VEVENT
BEGIN:VEVENT
DTSTART;TZID=Europe/London:20260521T180000
DTEND;TZID=Europe/London:20260521T190000
DTSTAMP:20260423T145129
CREATED:20220207T201414Z
LAST-MODIFIED:20220207T201414Z
UID:48838-1779386400-1779390000@debtorsanonymous.org.uk
SUMMARY:Debtors Anonymous: Frome (Online)
DESCRIPTION:JOIN ZOOM MEETING \nYou will be asked to kindly turn on your camera. If you do not wish to use the camera\, we suggest you try one of the other phone or online meetings available. Exceptions can be made on request. \nContact: \nKayleigh\n07497 264201\nedwardthefaun AT outlook.co.uk \nAndrea. B\n07958 519615\nabeveney AT hotmail.co.uk\n  \nNew Zoom meeting ID – 837 1688 5804\n\nNew Zoom Passcode – 238267
URL:https://debtorsanonymous.org.uk/meeting/debtors-anonymous-meeting-frome-2023-08-03/2026-05-21/
CATEGORIES:Online Meetings
END:VEVENT
BEGIN:VEVENT
DTSTART;TZID=Europe/London:20260528T180000
DTEND;TZID=Europe/London:20260528T190000
DTSTAMP:20260423T145129
CREATED:20220207T201414Z
LAST-MODIFIED:20220207T201414Z
UID:48909-1779991200-1779994800@debtorsanonymous.org.uk
SUMMARY:Debtors Anonymous: Frome (Online)
DESCRIPTION:JOIN ZOOM MEETING \nYou will be asked to kindly turn on your camera. If you do not wish to use the camera\, we suggest you try one of the other phone or online meetings available. Exceptions can be made on request. \nContact: \nKayleigh\n07497 264201\nedwardthefaun AT outlook.co.uk \nAndrea. B\n07958 519615\nabeveney AT hotmail.co.uk\n  \nNew Zoom meeting ID – 837 1688 5804\n\nNew Zoom Passcode – 238267
URL:https://debtorsanonymous.org.uk/meeting/debtors-anonymous-meeting-frome-2023-08-03/2026-05-28/
CATEGORIES:Online Meetings
END:VEVENT
BEGIN:VEVENT
DTSTART;TZID=Europe/London:20260604T180000
DTEND;TZID=Europe/London:20260604T190000
DTSTAMP:20260423T145129
CREATED:20220207T201414Z
LAST-MODIFIED:20220207T201414Z
UID:49194-1780596000-1780599600@debtorsanonymous.org.uk
SUMMARY:Debtors Anonymous: Frome (Online)
DESCRIPTION:JOIN ZOOM MEETING \nYou will be asked to kindly turn on your camera. If you do not wish to use the camera\, we suggest you try one of the other phone or online meetings available. Exceptions can be made on request. \nContact: \nKayleigh\n07497 264201\nedwardthefaun AT outlook.co.uk \nAndrea. B\n07958 519615\nabeveney AT hotmail.co.uk\n  \nNew Zoom meeting ID – 837 1688 5804\n\nNew Zoom Passcode – 238267
URL:https://debtorsanonymous.org.uk/meeting/debtors-anonymous-meeting-frome-2023-08-03/2026-06-04/
CATEGORIES:Online Meetings
END:VEVENT
BEGIN:VEVENT
DTSTART;TZID=Europe/London:20260611T180000
DTEND;TZID=Europe/London:20260611T190000
DTSTAMP:20260423T145129
CREATED:20220207T201414Z
LAST-MODIFIED:20220207T201414Z
UID:49278-1781200800-1781204400@debtorsanonymous.org.uk
SUMMARY:Debtors Anonymous: Frome (Online)
DESCRIPTION:JOIN ZOOM MEETING \nYou will be asked to kindly turn on your camera. If you do not wish to use the camera\, we suggest you try one of the other phone or online meetings available. Exceptions can be made on request. \nContact: \nKayleigh\n07497 264201\nedwardthefaun AT outlook.co.uk \nAndrea. B\n07958 519615\nabeveney AT hotmail.co.uk\n  \nNew Zoom meeting ID – 837 1688 5804\n\nNew Zoom Passcode – 238267
URL:https://debtorsanonymous.org.uk/meeting/debtors-anonymous-meeting-frome-2023-08-03/2026-06-11/
CATEGORIES:Online Meetings
END:VEVENT
BEGIN:VEVENT
DTSTART;TZID=Europe/London:20260618T180000
DTEND;TZID=Europe/London:20260618T190000
DTSTAMP:20260423T145129
CREATED:20220207T201414Z
LAST-MODIFIED:20220207T201414Z
UID:49350-1781805600-1781809200@debtorsanonymous.org.uk
SUMMARY:Debtors Anonymous: Frome (Online)
DESCRIPTION:JOIN ZOOM MEETING \nYou will be asked to kindly turn on your camera. If you do not wish to use the camera\, we suggest you try one of the other phone or online meetings available. Exceptions can be made on request. \nContact: \nKayleigh\n07497 264201\nedwardthefaun AT outlook.co.uk \nAndrea. B\n07958 519615\nabeveney AT hotmail.co.uk\n  \nNew Zoom meeting ID – 837 1688 5804\n\nNew Zoom Passcode – 238267
URL:https://debtorsanonymous.org.uk/meeting/debtors-anonymous-meeting-frome-2023-08-03/2026-06-18/
CATEGORIES:Online Meetings
END:VEVENT
BEGIN:VEVENT
DTSTART;TZID=Europe/London:20260625T180000
DTEND;TZID=Europe/London:20260625T190000
DTSTAMP:20260423T145129
CREATED:20220207T201414Z
LAST-MODIFIED:20220207T201414Z
UID:49423-1782410400-1782414000@debtorsanonymous.org.uk
SUMMARY:Debtors Anonymous: Frome (Online)
DESCRIPTION:JOIN ZOOM MEETING \nYou will be asked to kindly turn on your camera. If you do not wish to use the camera\, we suggest you try one of the other phone or online meetings available. Exceptions can be made on request. \nContact: \nKayleigh\n07497 264201\nedwardthefaun AT outlook.co.uk \nAndrea. B\n07958 519615\nabeveney AT hotmail.co.uk\n  \nNew Zoom meeting ID – 837 1688 5804\n\nNew Zoom Passcode – 238267
URL:https://debtorsanonymous.org.uk/meeting/debtors-anonymous-meeting-frome-2023-08-03/2026-06-25/
CATEGORIES:Online Meetings
END:VEVENT
BEGIN:VEVENT
DTSTART;TZID=Europe/London:20260702T180000
DTEND;TZID=Europe/London:20260702T190000
DTSTAMP:20260423T145129
CREATED:20220207T201414Z
LAST-MODIFIED:20220207T201414Z
UID:49498-1783015200-1783018800@debtorsanonymous.org.uk
SUMMARY:Debtors Anonymous: Frome (Online)
DESCRIPTION:JOIN ZOOM MEETING \nYou will be asked to kindly turn on your camera. If you do not wish to use the camera\, we suggest you try one of the other phone or online meetings available. Exceptions can be made on request. \nContact: \nKayleigh\n07497 264201\nedwardthefaun AT outlook.co.uk \nAndrea. B\n07958 519615\nabeveney AT hotmail.co.uk\n  \nNew Zoom meeting ID – 837 1688 5804\n\nNew Zoom Passcode – 238267
URL:https://debtorsanonymous.org.uk/meeting/debtors-anonymous-meeting-frome-2023-08-03/2026-07-02/
CATEGORIES:Online Meetings
END:VEVENT
BEGIN:VEVENT
DTSTART;TZID=Europe/London:20260709T180000
DTEND;TZID=Europe/London:20260709T190000
DTSTAMP:20260423T145129
CREATED:20220207T201414Z
LAST-MODIFIED:20220207T201414Z
UID:49887-1783620000-1783623600@debtorsanonymous.org.uk
SUMMARY:Debtors Anonymous: Frome (Online)
DESCRIPTION:JOIN ZOOM MEETING \nYou will be asked to kindly turn on your camera. If you do not wish to use the camera\, we suggest you try one of the other phone or online meetings available. Exceptions can be made on request. \nContact: \nKayleigh\n07497 264201\nedwardthefaun AT outlook.co.uk \nAndrea. B\n07958 519615\nabeveney AT hotmail.co.uk\n  \nNew Zoom meeting ID – 837 1688 5804\n\nNew Zoom Passcode – 238267
URL:https://debtorsanonymous.org.uk/meeting/debtors-anonymous-meeting-frome-2023-08-03/2026-07-09/
CATEGORIES:Online Meetings
END:VEVENT
BEGIN:VEVENT
DTSTART;TZID=Europe/London:20260716T180000
DTEND;TZID=Europe/London:20260716T190000
DTSTAMP:20260423T145129
CREATED:20220207T201414Z
LAST-MODIFIED:20220207T201414Z
UID:49959-1784224800-1784228400@debtorsanonymous.org.uk
SUMMARY:Debtors Anonymous: Frome (Online)
DESCRIPTION:JOIN ZOOM MEETING \nYou will be asked to kindly turn on your camera. If you do not wish to use the camera\, we suggest you try one of the other phone or online meetings available. Exceptions can be made on request. \nContact: \nKayleigh\n07497 264201\nedwardthefaun AT outlook.co.uk \nAndrea. B\n07958 519615\nabeveney AT hotmail.co.uk\n  \nNew Zoom meeting ID – 837 1688 5804\n\nNew Zoom Passcode – 238267
URL:https://debtorsanonymous.org.uk/meeting/debtors-anonymous-meeting-frome-2023-08-03/2026-07-16/
CATEGORIES:Online Meetings
END:VEVENT
BEGIN:VEVENT
DTSTART;TZID=Europe/London:20260723T180000
DTEND;TZID=Europe/London:20260723T190000
DTSTAMP:20260423T145129
CREATED:20220207T201414Z
LAST-MODIFIED:20220207T201414Z
UID:50032-1784829600-1784833200@debtorsanonymous.org.uk
SUMMARY:Debtors Anonymous: Frome (Online)
DESCRIPTION:JOIN ZOOM MEETING \nYou will be asked to kindly turn on your camera. If you do not wish to use the camera\, we suggest you try one of the other phone or online meetings available. Exceptions can be made on request. \nContact: \nKayleigh\n07497 264201\nedwardthefaun AT outlook.co.uk \nAndrea. B\n07958 519615\nabeveney AT hotmail.co.uk\n  \nNew Zoom meeting ID – 837 1688 5804\n\nNew Zoom Passcode – 238267
URL:https://debtorsanonymous.org.uk/meeting/debtors-anonymous-meeting-frome-2023-08-03/2026-07-23/
CATEGORIES:Online Meetings
END:VEVENT
BEGIN:VEVENT
DTSTART;TZID=Europe/London:20260730T180000
DTEND;TZID=Europe/London:20260730T190000
DTSTAMP:20260423T145129
CREATED:20220207T201414Z
LAST-MODIFIED:20220207T201414Z
UID:50105-1785434400-1785438000@debtorsanonymous.org.uk
SUMMARY:Debtors Anonymous: Frome (Online)
DESCRIPTION:JOIN ZOOM MEETING \nYou will be asked to kindly turn on your camera. If you do not wish to use the camera\, we suggest you try one of the other phone or online meetings available. Exceptions can be made on request. \nContact: \nKayleigh\n07497 264201\nedwardthefaun AT outlook.co.uk \nAndrea. B\n07958 519615\nabeveney AT hotmail.co.uk\n  \nNew Zoom meeting ID – 837 1688 5804\n\nNew Zoom Passcode – 238267
URL:https://debtorsanonymous.org.uk/meeting/debtors-anonymous-meeting-frome-2023-08-03/2026-07-30/
CATEGORIES:Online Meetings
END:VEVENT
BEGIN:VEVENT
DTSTART;TZID=Europe/London:20260806T180000
DTEND;TZID=Europe/London:20260806T190000
DTSTAMP:20260423T145129
CREATED:20220207T201414Z
LAST-MODIFIED:20220207T201414Z
UID:50289-1786039200-1786042800@debtorsanonymous.org.uk
SUMMARY:Debtors Anonymous: Frome (Online)
DESCRIPTION:JOIN ZOOM MEETING \nYou will be asked to kindly turn on your camera. If you do not wish to use the camera\, we suggest you try one of the other phone or online meetings available. Exceptions can be made on request. \nContact: \nKayleigh\n07497 264201\nedwardthefaun AT outlook.co.uk \nAndrea. B\n07958 519615\nabeveney AT hotmail.co.uk\n  \nNew Zoom meeting ID – 837 1688 5804\n\nNew Zoom Passcode – 238267
URL:https://debtorsanonymous.org.uk/meeting/debtors-anonymous-meeting-frome-2023-08-03/2026-08-06/
CATEGORIES:Online Meetings
END:VEVENT
BEGIN:VEVENT
DTSTART;TZID=Europe/London:20260813T180000
DTEND;TZID=Europe/London:20260813T190000
DTSTAMP:20260423T145129
CREATED:20220207T201414Z
LAST-MODIFIED:20220207T201414Z
UID:50428-1786644000-1786647600@debtorsanonymous.org.uk
SUMMARY:Debtors Anonymous: Frome (Online)
DESCRIPTION:JOIN ZOOM MEETING \nYou will be asked to kindly turn on your camera. If you do not wish to use the camera\, we suggest you try one of the other phone or online meetings available. Exceptions can be made on request. \nContact: \nKayleigh\n07497 264201\nedwardthefaun AT outlook.co.uk \nAndrea. B\n07958 519615\nabeveney AT hotmail.co.uk\n  \nNew Zoom meeting ID – 837 1688 5804\n\nNew Zoom Passcode – 238267
URL:https://debtorsanonymous.org.uk/meeting/debtors-anonymous-meeting-frome-2023-08-03/2026-08-13/
CATEGORIES:Online Meetings
END:VEVENT
BEGIN:VEVENT
DTSTART;TZID=Europe/London:20260820T180000
DTEND;TZID=Europe/London:20260820T190000
DTSTAMP:20260423T145129
CREATED:20220207T201414Z
LAST-MODIFIED:20220207T201414Z
UID:50607-1787248800-1787252400@debtorsanonymous.org.uk
SUMMARY:Debtors Anonymous: Frome (Online)
DESCRIPTION:JOIN ZOOM MEETING \nYou will be asked to kindly turn on your camera. If you do not wish to use the camera\, we suggest you try one of the other phone or online meetings available. Exceptions can be made on request. \nContact: \nKayleigh\n07497 264201\nedwardthefaun AT outlook.co.uk \nAndrea. B\n07958 519615\nabeveney AT hotmail.co.uk\n  \nNew Zoom meeting ID – 837 1688 5804\n\nNew Zoom Passcode – 238267
URL:https://debtorsanonymous.org.uk/meeting/debtors-anonymous-meeting-frome-2023-08-03/2026-08-20/
CATEGORIES:Online Meetings
END:VEVENT
BEGIN:VEVENT
DTSTART;TZID=Europe/London:20260827T180000
DTEND;TZID=Europe/London:20260827T190000
DTSTAMP:20260423T145129
CREATED:20220207T201414Z
LAST-MODIFIED:20220207T201414Z
UID:50773-1787853600-1787857200@debtorsanonymous.org.uk
SUMMARY:Debtors Anonymous: Frome (Online)
DESCRIPTION:JOIN ZOOM MEETING \nYou will be asked to kindly turn on your camera. If you do not wish to use the camera\, we suggest you try one of the other phone or online meetings available. Exceptions can be made on request. \nContact: \nKayleigh\n07497 264201\nedwardthefaun AT outlook.co.uk \nAndrea. B\n07958 519615\nabeveney AT hotmail.co.uk\n  \nNew Zoom meeting ID – 837 1688 5804\n\nNew Zoom Passcode – 238267
URL:https://debtorsanonymous.org.uk/meeting/debtors-anonymous-meeting-frome-2023-08-03/2026-08-27/
CATEGORIES:Online Meetings
END:VEVENT
BEGIN:VEVENT
DTSTART;TZID=Europe/London:20260903T180000
DTEND;TZID=Europe/London:20260903T190000
DTSTAMP:20260423T145129
CREATED:20220207T201414Z
LAST-MODIFIED:20220207T201414Z
UID:51583-1788458400-1788462000@debtorsanonymous.org.uk
SUMMARY:Debtors Anonymous: Frome (Online)
DESCRIPTION:JOIN ZOOM MEETING \nYou will be asked to kindly turn on your camera. If you do not wish to use the camera\, we suggest you try one of the other phone or online meetings available. Exceptions can be made on request. \nContact: \nKayleigh\n07497 264201\nedwardthefaun AT outlook.co.uk \nAndrea. B\n07958 519615\nabeveney AT hotmail.co.uk\n  \nNew Zoom meeting ID – 837 1688 5804\n\nNew Zoom Passcode – 238267
URL:https://debtorsanonymous.org.uk/meeting/debtors-anonymous-meeting-frome-2023-08-03/2026-09-03/
CATEGORIES:Online Meetings
END:VEVENT
BEGIN:VEVENT
DTSTART;TZID=Europe/London:20260910T180000
DTEND;TZID=Europe/London:20260910T190000
DTSTAMP:20260423T145129
CREATED:20220207T201414Z
LAST-MODIFIED:20220207T201414Z
UID:51666-1789063200-1789066800@debtorsanonymous.org.uk
SUMMARY:Debtors Anonymous: Frome (Online)
DESCRIPTION:JOIN ZOOM MEETING \nYou will be asked to kindly turn on your camera. If you do not wish to use the camera\, we suggest you try one of the other phone or online meetings available. Exceptions can be made on request. \nContact: \nKayleigh\n07497 264201\nedwardthefaun AT outlook.co.uk \nAndrea. B\n07958 519615\nabeveney AT hotmail.co.uk\n  \nNew Zoom meeting ID – 837 1688 5804\n\nNew Zoom Passcode – 238267
URL:https://debtorsanonymous.org.uk/meeting/debtors-anonymous-meeting-frome-2023-08-03/2026-09-10/
CATEGORIES:Online Meetings
END:VEVENT
BEGIN:VEVENT
DTSTART;TZID=Europe/London:20260917T180000
DTEND;TZID=Europe/London:20260917T190000
DTSTAMP:20260423T145129
CREATED:20220207T201414Z
LAST-MODIFIED:20220207T201414Z
UID:51739-1789668000-1789671600@debtorsanonymous.org.uk
SUMMARY:Debtors Anonymous: Frome (Online)
DESCRIPTION:JOIN ZOOM MEETING \nYou will be asked to kindly turn on your camera. If you do not wish to use the camera\, we suggest you try one of the other phone or online meetings available. Exceptions can be made on request. \nContact: \nKayleigh\n07497 264201\nedwardthefaun AT outlook.co.uk \nAndrea. B\n07958 519615\nabeveney AT hotmail.co.uk\n  \nNew Zoom meeting ID – 837 1688 5804\n\nNew Zoom Passcode – 238267
URL:https://debtorsanonymous.org.uk/meeting/debtors-anonymous-meeting-frome-2023-08-03/2026-09-17/
CATEGORIES:Online Meetings
END:VEVENT
BEGIN:VEVENT
DTSTART;TZID=Europe/London:20260924T180000
DTEND;TZID=Europe/London:20260924T190000
DTSTAMP:20260423T145129
CREATED:20220207T201414Z
LAST-MODIFIED:20220207T201414Z
UID:51813-1790272800-1790276400@debtorsanonymous.org.uk
SUMMARY:Debtors Anonymous: Frome (Online)
DESCRIPTION:JOIN ZOOM MEETING \nYou will be asked to kindly turn on your camera. If you do not wish to use the camera\, we suggest you try one of the other phone or online meetings available. Exceptions can be made on request. \nContact: \nKayleigh\n07497 264201\nedwardthefaun AT outlook.co.uk \nAndrea. B\n07958 519615\nabeveney AT hotmail.co.uk\n  \nNew Zoom meeting ID – 837 1688 5804\n\nNew Zoom Passcode – 238267
URL:https://debtorsanonymous.org.uk/meeting/debtors-anonymous-meeting-frome-2023-08-03/2026-09-24/
CATEGORIES:Online Meetings
END:VEVENT
BEGIN:VEVENT
DTSTART;TZID=Europe/London:20261001T180000
DTEND;TZID=Europe/London:20261001T190000
DTSTAMP:20260423T145129
CREATED:20220207T201414Z
LAST-MODIFIED:20220207T201414Z
UID:51887-1790877600-1790881200@debtorsanonymous.org.uk
SUMMARY:Debtors Anonymous: Frome (Online)
DESCRIPTION:JOIN ZOOM MEETING \nYou will be asked to kindly turn on your camera. If you do not wish to use the camera\, we suggest you try one of the other phone or online meetings available. Exceptions can be made on request. \nContact: \nKayleigh\n07497 264201\nedwardthefaun AT outlook.co.uk \nAndrea. B\n07958 519615\nabeveney AT hotmail.co.uk\n  \nNew Zoom meeting ID – 837 1688 5804\n\nNew Zoom Passcode – 238267
URL:https://debtorsanonymous.org.uk/meeting/debtors-anonymous-meeting-frome-2023-08-03/2026-10-01/
CATEGORIES:Online Meetings
END:VEVENT
BEGIN:VEVENT
DTSTART;TZID=Europe/London:20261008T180000
DTEND;TZID=Europe/London:20261008T190000
DTSTAMP:20260423T145129
CREATED:20220207T201414Z
LAST-MODIFIED:20220207T201414Z
UID:51953-1791482400-1791486000@debtorsanonymous.org.uk
SUMMARY:Debtors Anonymous: Frome (Online)
DESCRIPTION:JOIN ZOOM MEETING \nYou will be asked to kindly turn on your camera. If you do not wish to use the camera\, we suggest you try one of the other phone or online meetings available. Exceptions can be made on request. \nContact: \nKayleigh\n07497 264201\nedwardthefaun AT outlook.co.uk \nAndrea. B\n07958 519615\nabeveney AT hotmail.co.uk\n  \nNew Zoom meeting ID – 837 1688 5804\n\nNew Zoom Passcode – 238267
URL:https://debtorsanonymous.org.uk/meeting/debtors-anonymous-meeting-frome-2023-08-03/2026-10-08/
CATEGORIES:Online Meetings
END:VEVENT
BEGIN:VEVENT
DTSTART;TZID=Europe/London:20261015T180000
DTEND;TZID=Europe/London:20261015T190000
DTSTAMP:20260423T145129
CREATED:20220207T201414Z
LAST-MODIFIED:20220207T201414Z
UID:52021-1792087200-1792090800@debtorsanonymous.org.uk
SUMMARY:Debtors Anonymous: Frome (Online)
DESCRIPTION:JOIN ZOOM MEETING \nYou will be asked to kindly turn on your camera. If you do not wish to use the camera\, we suggest you try one of the other phone or online meetings available. Exceptions can be made on request. \nContact: \nKayleigh\n07497 264201\nedwardthefaun AT outlook.co.uk \nAndrea. B\n07958 519615\nabeveney AT hotmail.co.uk\n  \nNew Zoom meeting ID – 837 1688 5804\n\nNew Zoom Passcode – 238267
URL:https://debtorsanonymous.org.uk/meeting/debtors-anonymous-meeting-frome-2023-08-03/2026-10-15/
CATEGORIES:Online Meetings
END:VEVENT
BEGIN:VEVENT
DTSTART;TZID=Europe/London:20261022T180000
DTEND;TZID=Europe/London:20261022T190000
DTSTAMP:20260423T145129
CREATED:20220207T201414Z
LAST-MODIFIED:20220207T201414Z
UID:52086-1792692000-1792695600@debtorsanonymous.org.uk
SUMMARY:Debtors Anonymous: Frome (Online)
DESCRIPTION:JOIN ZOOM MEETING \nYou will be asked to kindly turn on your camera. If you do not wish to use the camera\, we suggest you try one of the other phone or online meetings available. Exceptions can be made on request. \nContact: \nKayleigh\n07497 264201\nedwardthefaun AT outlook.co.uk \nAndrea. B\n07958 519615\nabeveney AT hotmail.co.uk\n  \nNew Zoom meeting ID – 837 1688 5804\n\nNew Zoom Passcode – 238267
URL:https://debtorsanonymous.org.uk/meeting/debtors-anonymous-meeting-frome-2023-08-03/2026-10-22/
CATEGORIES:Online Meetings
END:VEVENT
BEGIN:VEVENT
DTSTART;TZID=Europe/London:20261029T180000
DTEND;TZID=Europe/London:20261029T190000
DTSTAMP:20260423T145129
CREATED:20220207T201414Z
LAST-MODIFIED:20220207T201414Z
UID:52269-1793296800-1793300400@debtorsanonymous.org.uk
SUMMARY:Debtors Anonymous: Frome (Online)
DESCRIPTION:JOIN ZOOM MEETING \nYou will be asked to kindly turn on your camera. If you do not wish to use the camera\, we suggest you try one of the other phone or online meetings available. Exceptions can be made on request. \nContact: \nKayleigh\n07497 264201\nedwardthefaun AT outlook.co.uk \nAndrea. B\n07958 519615\nabeveney AT hotmail.co.uk\n  \nNew Zoom meeting ID – 837 1688 5804\n\nNew Zoom Passcode – 238267
URL:https://debtorsanonymous.org.uk/meeting/debtors-anonymous-meeting-frome-2023-08-03/2026-10-29/
CATEGORIES:Online Meetings
END:VEVENT
BEGIN:VEVENT
DTSTART;TZID=Europe/London:20261105T180000
DTEND;TZID=Europe/London:20261105T190000
DTSTAMP:20260423T145129
CREATED:20220207T201414Z
LAST-MODIFIED:20220207T201414Z
UID:52336-1793901600-1793905200@debtorsanonymous.org.uk
SUMMARY:Debtors Anonymous: Frome (Online)
DESCRIPTION:JOIN ZOOM MEETING \nYou will be asked to kindly turn on your camera. If you do not wish to use the camera\, we suggest you try one of the other phone or online meetings available. Exceptions can be made on request. \nContact: \nKayleigh\n07497 264201\nedwardthefaun AT outlook.co.uk \nAndrea. B\n07958 519615\nabeveney AT hotmail.co.uk\n  \nNew Zoom meeting ID – 837 1688 5804\n\nNew Zoom Passcode – 238267
URL:https://debtorsanonymous.org.uk/meeting/debtors-anonymous-meeting-frome-2023-08-03/2026-11-05/
CATEGORIES:Online Meetings
END:VEVENT
BEGIN:VEVENT
DTSTART;TZID=Europe/London:20261112T180000
DTEND;TZID=Europe/London:20261112T190000
DTSTAMP:20260423T145129
CREATED:20220207T201414Z
LAST-MODIFIED:20220207T201414Z
UID:52717-1794506400-1794510000@debtorsanonymous.org.uk
SUMMARY:Debtors Anonymous: Frome (Online)
DESCRIPTION:JOIN ZOOM MEETING \nYou will be asked to kindly turn on your camera. If you do not wish to use the camera\, we suggest you try one of the other phone or online meetings available. Exceptions can be made on request. \nContact: \nKayleigh\n07497 264201\nedwardthefaun AT outlook.co.uk \nAndrea. B\n07958 519615\nabeveney AT hotmail.co.uk\n  \nNew Zoom meeting ID – 837 1688 5804\n\nNew Zoom Passcode – 238267
URL:https://debtorsanonymous.org.uk/meeting/debtors-anonymous-meeting-frome-2023-08-03/2026-11-12/
CATEGORIES:Online Meetings
END:VEVENT
END:VCALENDAR