BEGIN:VCALENDAR
VERSION:2.0
PRODID:-//Debtors Anonymous UK - ECPv6.0.5//NONSGML v1.0//EN
CALSCALE:GREGORIAN
METHOD:PUBLISH
X-WR-CALNAME:Debtors Anonymous UK
X-ORIGINAL-URL:https://debtorsanonymous.org.uk
X-WR-CALDESC:Events for Debtors Anonymous UK
REFRESH-INTERVAL;VALUE=DURATION:PT1H
X-Robots-Tag:noindex
X-PUBLISHED-TTL:PT1H
BEGIN:VTIMEZONE
TZID:Europe/London
BEGIN:DAYLIGHT
TZOFFSETFROM:+0000
TZOFFSETTO:+0100
TZNAME:BST
DTSTART:20260329T010000
END:DAYLIGHT
BEGIN:STANDARD
TZOFFSETFROM:+0100
TZOFFSETTO:+0000
TZNAME:GMT
DTSTART:20261025T010000
END:STANDARD
END:VTIMEZONE
BEGIN:VEVENT
DTSTART;TZID=Europe/London:20260429T100000
DTEND;TZID=Europe/London:20260429T110000
DTSTAMP:20260423T235311
CREATED:20220227T142922Z
LAST-MODIFIED:20220227T142922Z
UID:48602-1777456800-1777460400@debtorsanonymous.org.uk
SUMMARY:BDA Kenya Express Group (Online)
DESCRIPTION:JOIN ZOOM MEETING \nMeeting ID: 941 9522 4867\nPasscode: Express
URL:https://debtorsanonymous.org.uk/meeting/bda-kenya-express-group/2026-04-29/
CATEGORIES:Online Meetings
END:VEVENT
BEGIN:VEVENT
DTSTART;TZID=Europe/London:20260506T100000
DTEND;TZID=Europe/London:20260506T110000
DTSTAMP:20260423T235311
CREATED:20220227T142922Z
LAST-MODIFIED:20220227T142922Z
UID:48674-1778061600-1778065200@debtorsanonymous.org.uk
SUMMARY:BDA Kenya Express Group (Online)
DESCRIPTION:JOIN ZOOM MEETING \nMeeting ID: 941 9522 4867\nPasscode: Express
URL:https://debtorsanonymous.org.uk/meeting/bda-kenya-express-group/2026-05-06/
CATEGORIES:Online Meetings
END:VEVENT
BEGIN:VEVENT
DTSTART;TZID=Europe/London:20260513T100000
DTEND;TZID=Europe/London:20260513T110000
DTSTAMP:20260423T235311
CREATED:20220227T142922Z
LAST-MODIFIED:20220227T142922Z
UID:48749-1778666400-1778670000@debtorsanonymous.org.uk
SUMMARY:BDA Kenya Express Group (Online)
DESCRIPTION:JOIN ZOOM MEETING \nMeeting ID: 941 9522 4867\nPasscode: Express
URL:https://debtorsanonymous.org.uk/meeting/bda-kenya-express-group/2026-05-13/
CATEGORIES:Online Meetings
END:VEVENT
BEGIN:VEVENT
DTSTART;TZID=Europe/London:20260520T100000
DTEND;TZID=Europe/London:20260520T110000
DTSTAMP:20260423T235311
CREATED:20220227T142922Z
LAST-MODIFIED:20220227T142922Z
UID:48820-1779271200-1779274800@debtorsanonymous.org.uk
SUMMARY:BDA Kenya Express Group (Online)
DESCRIPTION:JOIN ZOOM MEETING \nMeeting ID: 941 9522 4867\nPasscode: Express
URL:https://debtorsanonymous.org.uk/meeting/bda-kenya-express-group/2026-05-20/
CATEGORIES:Online Meetings
END:VEVENT
BEGIN:VEVENT
DTSTART;TZID=Europe/London:20260527T100000
DTEND;TZID=Europe/London:20260527T110000
DTSTAMP:20260423T235311
CREATED:20220227T142922Z
LAST-MODIFIED:20220227T142922Z
UID:48891-1779876000-1779879600@debtorsanonymous.org.uk
SUMMARY:BDA Kenya Express Group (Online)
DESCRIPTION:JOIN ZOOM MEETING \nMeeting ID: 941 9522 4867\nPasscode: Express
URL:https://debtorsanonymous.org.uk/meeting/bda-kenya-express-group/2026-05-27/
CATEGORIES:Online Meetings
END:VEVENT
BEGIN:VEVENT
DTSTART;TZID=Europe/London:20260603T100000
DTEND;TZID=Europe/London:20260603T110000
DTSTAMP:20260423T235311
CREATED:20220227T142922Z
LAST-MODIFIED:20220227T142922Z
UID:48962-1780480800-1780484400@debtorsanonymous.org.uk
SUMMARY:BDA Kenya Express Group (Online)
DESCRIPTION:JOIN ZOOM MEETING \nMeeting ID: 941 9522 4867\nPasscode: Express
URL:https://debtorsanonymous.org.uk/meeting/bda-kenya-express-group/2026-06-03/
CATEGORIES:Online Meetings
END:VEVENT
BEGIN:VEVENT
DTSTART;TZID=Europe/London:20260610T100000
DTEND;TZID=Europe/London:20260610T110000
DTSTAMP:20260423T235311
CREATED:20220227T142922Z
LAST-MODIFIED:20220227T142922Z
UID:49254-1781085600-1781089200@debtorsanonymous.org.uk
SUMMARY:BDA Kenya Express Group (Online)
DESCRIPTION:JOIN ZOOM MEETING \nMeeting ID: 941 9522 4867\nPasscode: Express
URL:https://debtorsanonymous.org.uk/meeting/bda-kenya-express-group/2026-06-10/
CATEGORIES:Online Meetings
END:VEVENT
BEGIN:VEVENT
DTSTART;TZID=Europe/London:20260617T100000
DTEND;TZID=Europe/London:20260617T110000
DTSTAMP:20260423T235311
CREATED:20220227T142922Z
LAST-MODIFIED:20220227T142922Z
UID:49332-1781690400-1781694000@debtorsanonymous.org.uk
SUMMARY:BDA Kenya Express Group (Online)
DESCRIPTION:JOIN ZOOM MEETING \nMeeting ID: 941 9522 4867\nPasscode: Express
URL:https://debtorsanonymous.org.uk/meeting/bda-kenya-express-group/2026-06-17/
CATEGORIES:Online Meetings
END:VEVENT
BEGIN:VEVENT
DTSTART;TZID=Europe/London:20260624T100000
DTEND;TZID=Europe/London:20260624T110000
DTSTAMP:20260423T235311
CREATED:20220227T142922Z
LAST-MODIFIED:20220227T142922Z
UID:49405-1782295200-1782298800@debtorsanonymous.org.uk
SUMMARY:BDA Kenya Express Group (Online)
DESCRIPTION:JOIN ZOOM MEETING \nMeeting ID: 941 9522 4867\nPasscode: Express
URL:https://debtorsanonymous.org.uk/meeting/bda-kenya-express-group/2026-06-24/
CATEGORIES:Online Meetings
END:VEVENT
BEGIN:VEVENT
DTSTART;TZID=Europe/London:20260701T100000
DTEND;TZID=Europe/London:20260701T110000
DTSTAMP:20260423T235311
CREATED:20220227T142922Z
LAST-MODIFIED:20220227T142922Z
UID:49477-1782900000-1782903600@debtorsanonymous.org.uk
SUMMARY:BDA Kenya Express Group (Online)
DESCRIPTION:JOIN ZOOM MEETING \nMeeting ID: 941 9522 4867\nPasscode: Express
URL:https://debtorsanonymous.org.uk/meeting/bda-kenya-express-group/2026-07-01/
CATEGORIES:Online Meetings
END:VEVENT
BEGIN:VEVENT
DTSTART;TZID=Europe/London:20260708T100000
DTEND;TZID=Europe/London:20260708T110000
DTSTAMP:20260423T235311
CREATED:20220227T142922Z
LAST-MODIFIED:20220227T142922Z
UID:49869-1783504800-1783508400@debtorsanonymous.org.uk
SUMMARY:BDA Kenya Express Group (Online)
DESCRIPTION:JOIN ZOOM MEETING \nMeeting ID: 941 9522 4867\nPasscode: Express
URL:https://debtorsanonymous.org.uk/meeting/bda-kenya-express-group/2026-07-08/
CATEGORIES:Online Meetings
END:VEVENT
BEGIN:VEVENT
DTSTART;TZID=Europe/London:20260715T100000
DTEND;TZID=Europe/London:20260715T110000
DTSTAMP:20260423T235311
CREATED:20220227T142922Z
LAST-MODIFIED:20220227T142922Z
UID:49941-1784109600-1784113200@debtorsanonymous.org.uk
SUMMARY:BDA Kenya Express Group (Online)
DESCRIPTION:JOIN ZOOM MEETING \nMeeting ID: 941 9522 4867\nPasscode: Express
URL:https://debtorsanonymous.org.uk/meeting/bda-kenya-express-group/2026-07-15/
CATEGORIES:Online Meetings
END:VEVENT
BEGIN:VEVENT
DTSTART;TZID=Europe/London:20260722T100000
DTEND;TZID=Europe/London:20260722T110000
DTSTAMP:20260423T235311
CREATED:20220227T142922Z
LAST-MODIFIED:20220227T142922Z
UID:50014-1784714400-1784718000@debtorsanonymous.org.uk
SUMMARY:BDA Kenya Express Group (Online)
DESCRIPTION:JOIN ZOOM MEETING \nMeeting ID: 941 9522 4867\nPasscode: Express
URL:https://debtorsanonymous.org.uk/meeting/bda-kenya-express-group/2026-07-22/
CATEGORIES:Online Meetings
END:VEVENT
BEGIN:VEVENT
DTSTART;TZID=Europe/London:20260729T100000
DTEND;TZID=Europe/London:20260729T110000
DTSTAMP:20260423T235311
CREATED:20220227T142922Z
LAST-MODIFIED:20220227T142922Z
UID:50087-1785319200-1785322800@debtorsanonymous.org.uk
SUMMARY:BDA Kenya Express Group (Online)
DESCRIPTION:JOIN ZOOM MEETING \nMeeting ID: 941 9522 4867\nPasscode: Express
URL:https://debtorsanonymous.org.uk/meeting/bda-kenya-express-group/2026-07-29/
CATEGORIES:Online Meetings
END:VEVENT
BEGIN:VEVENT
DTSTART;TZID=Europe/London:20260805T100000
DTEND;TZID=Europe/London:20260805T110000
DTSTAMP:20260423T235311
CREATED:20220227T142922Z
LAST-MODIFIED:20220227T142922Z
UID:50162-1785924000-1785927600@debtorsanonymous.org.uk
SUMMARY:BDA Kenya Express Group (Online)
DESCRIPTION:JOIN ZOOM MEETING \nMeeting ID: 941 9522 4867\nPasscode: Express
URL:https://debtorsanonymous.org.uk/meeting/bda-kenya-express-group/2026-08-05/
CATEGORIES:Online Meetings
END:VEVENT
BEGIN:VEVENT
DTSTART;TZID=Europe/London:20260812T100000
DTEND;TZID=Europe/London:20260812T110000
DTSTAMP:20260423T235311
CREATED:20220227T142922Z
LAST-MODIFIED:20220227T142922Z
UID:50410-1786528800-1786532400@debtorsanonymous.org.uk
SUMMARY:BDA Kenya Express Group (Online)
DESCRIPTION:JOIN ZOOM MEETING \nMeeting ID: 941 9522 4867\nPasscode: Express
URL:https://debtorsanonymous.org.uk/meeting/bda-kenya-express-group/2026-08-12/
CATEGORIES:Online Meetings
END:VEVENT
BEGIN:VEVENT
DTSTART;TZID=Europe/London:20260819T100000
DTEND;TZID=Europe/London:20260819T110000
DTSTAMP:20260423T235311
CREATED:20220227T142922Z
LAST-MODIFIED:20220227T142922Z
UID:50589-1787133600-1787137200@debtorsanonymous.org.uk
SUMMARY:BDA Kenya Express Group (Online)
DESCRIPTION:JOIN ZOOM MEETING \nMeeting ID: 941 9522 4867\nPasscode: Express
URL:https://debtorsanonymous.org.uk/meeting/bda-kenya-express-group/2026-08-19/
CATEGORIES:Online Meetings
END:VEVENT
BEGIN:VEVENT
DTSTART;TZID=Europe/London:20260826T100000
DTEND;TZID=Europe/London:20260826T110000
DTSTAMP:20260423T235311
CREATED:20220227T142922Z
LAST-MODIFIED:20220227T142922Z
UID:50755-1787738400-1787742000@debtorsanonymous.org.uk
SUMMARY:BDA Kenya Express Group (Online)
DESCRIPTION:JOIN ZOOM MEETING \nMeeting ID: 941 9522 4867\nPasscode: Express
URL:https://debtorsanonymous.org.uk/meeting/bda-kenya-express-group/2026-08-26/
CATEGORIES:Online Meetings
END:VEVENT
BEGIN:VEVENT
DTSTART;TZID=Europe/London:20260902T100000
DTEND;TZID=Europe/London:20260902T110000
DTSTAMP:20260423T235311
CREATED:20220227T142922Z
LAST-MODIFIED:20220227T142922Z
UID:51509-1788343200-1788346800@debtorsanonymous.org.uk
SUMMARY:BDA Kenya Express Group (Online)
DESCRIPTION:JOIN ZOOM MEETING \nMeeting ID: 941 9522 4867\nPasscode: Express
URL:https://debtorsanonymous.org.uk/meeting/bda-kenya-express-group/2026-09-02/
CATEGORIES:Online Meetings
END:VEVENT
BEGIN:VEVENT
DTSTART;TZID=Europe/London:20260909T100000
DTEND;TZID=Europe/London:20260909T110000
DTSTAMP:20260423T235311
CREATED:20220227T142922Z
LAST-MODIFIED:20220227T142922Z
UID:51648-1788948000-1788951600@debtorsanonymous.org.uk
SUMMARY:BDA Kenya Express Group (Online)
DESCRIPTION:JOIN ZOOM MEETING \nMeeting ID: 941 9522 4867\nPasscode: Express
URL:https://debtorsanonymous.org.uk/meeting/bda-kenya-express-group/2026-09-09/
CATEGORIES:Online Meetings
END:VEVENT
BEGIN:VEVENT
DTSTART;TZID=Europe/London:20260916T100000
DTEND;TZID=Europe/London:20260916T110000
DTSTAMP:20260423T235311
CREATED:20220227T142922Z
LAST-MODIFIED:20220227T142922Z
UID:51721-1789552800-1789556400@debtorsanonymous.org.uk
SUMMARY:BDA Kenya Express Group (Online)
DESCRIPTION:JOIN ZOOM MEETING \nMeeting ID: 941 9522 4867\nPasscode: Express
URL:https://debtorsanonymous.org.uk/meeting/bda-kenya-express-group/2026-09-16/
CATEGORIES:Online Meetings
END:VEVENT
BEGIN:VEVENT
DTSTART;TZID=Europe/London:20260923T100000
DTEND;TZID=Europe/London:20260923T110000
DTSTAMP:20260423T235311
CREATED:20220227T142922Z
LAST-MODIFIED:20220227T142922Z
UID:51795-1790157600-1790161200@debtorsanonymous.org.uk
SUMMARY:BDA Kenya Express Group (Online)
DESCRIPTION:JOIN ZOOM MEETING \nMeeting ID: 941 9522 4867\nPasscode: Express
URL:https://debtorsanonymous.org.uk/meeting/bda-kenya-express-group/2026-09-23/
CATEGORIES:Online Meetings
END:VEVENT
BEGIN:VEVENT
DTSTART;TZID=Europe/London:20260930T100000
DTEND;TZID=Europe/London:20260930T110000
DTSTAMP:20260423T235311
CREATED:20220227T142922Z
LAST-MODIFIED:20220227T142922Z
UID:51868-1790762400-1790766000@debtorsanonymous.org.uk
SUMMARY:BDA Kenya Express Group (Online)
DESCRIPTION:JOIN ZOOM MEETING \nMeeting ID: 941 9522 4867\nPasscode: Express
URL:https://debtorsanonymous.org.uk/meeting/bda-kenya-express-group/2026-09-30/
CATEGORIES:Online Meetings
END:VEVENT
BEGIN:VEVENT
DTSTART;TZID=Europe/London:20261007T100000
DTEND;TZID=Europe/London:20261007T110000
DTSTAMP:20260423T235311
CREATED:20220227T142922Z
LAST-MODIFIED:20220227T142922Z
UID:51936-1791367200-1791370800@debtorsanonymous.org.uk
SUMMARY:BDA Kenya Express Group (Online)
DESCRIPTION:JOIN ZOOM MEETING \nMeeting ID: 941 9522 4867\nPasscode: Express
URL:https://debtorsanonymous.org.uk/meeting/bda-kenya-express-group/2026-10-07/
CATEGORIES:Online Meetings
END:VEVENT
BEGIN:VEVENT
DTSTART;TZID=Europe/London:20261014T100000
DTEND;TZID=Europe/London:20261014T110000
DTSTAMP:20260423T235311
CREATED:20220227T142922Z
LAST-MODIFIED:20220227T142922Z
UID:52006-1791972000-1791975600@debtorsanonymous.org.uk
SUMMARY:BDA Kenya Express Group (Online)
DESCRIPTION:JOIN ZOOM MEETING \nMeeting ID: 941 9522 4867\nPasscode: Express
URL:https://debtorsanonymous.org.uk/meeting/bda-kenya-express-group/2026-10-14/
CATEGORIES:Online Meetings
END:VEVENT
BEGIN:VEVENT
DTSTART;TZID=Europe/London:20261021T100000
DTEND;TZID=Europe/London:20261021T110000
DTSTAMP:20260423T235311
CREATED:20220227T142922Z
LAST-MODIFIED:20220227T142922Z
UID:52071-1792576800-1792580400@debtorsanonymous.org.uk
SUMMARY:BDA Kenya Express Group (Online)
DESCRIPTION:JOIN ZOOM MEETING \nMeeting ID: 941 9522 4867\nPasscode: Express
URL:https://debtorsanonymous.org.uk/meeting/bda-kenya-express-group/2026-10-21/
CATEGORIES:Online Meetings
END:VEVENT
BEGIN:VEVENT
DTSTART;TZID=Europe/London:20261028T100000
DTEND;TZID=Europe/London:20261028T110000
DTSTAMP:20260423T235311
CREATED:20220227T142922Z
LAST-MODIFIED:20220227T142922Z
UID:52254-1793181600-1793185200@debtorsanonymous.org.uk
SUMMARY:BDA Kenya Express Group (Online)
DESCRIPTION:JOIN ZOOM MEETING \nMeeting ID: 941 9522 4867\nPasscode: Express
URL:https://debtorsanonymous.org.uk/meeting/bda-kenya-express-group/2026-10-28/
CATEGORIES:Online Meetings
END:VEVENT
BEGIN:VEVENT
DTSTART;TZID=Europe/London:20261104T100000
DTEND;TZID=Europe/London:20261104T110000
DTSTAMP:20260423T235311
CREATED:20220227T142922Z
LAST-MODIFIED:20220227T142922Z
UID:52318-1793786400-1793790000@debtorsanonymous.org.uk
SUMMARY:BDA Kenya Express Group (Online)
DESCRIPTION:JOIN ZOOM MEETING \nMeeting ID: 941 9522 4867\nPasscode: Express
URL:https://debtorsanonymous.org.uk/meeting/bda-kenya-express-group/2026-11-04/
CATEGORIES:Online Meetings
END:VEVENT
BEGIN:VEVENT
DTSTART;TZID=Europe/London:20261111T100000
DTEND;TZID=Europe/London:20261111T110000
DTSTAMP:20260423T235311
CREATED:20220227T142922Z
LAST-MODIFIED:20220227T142922Z
UID:52702-1794391200-1794394800@debtorsanonymous.org.uk
SUMMARY:BDA Kenya Express Group (Online)
DESCRIPTION:JOIN ZOOM MEETING \nMeeting ID: 941 9522 4867\nPasscode: Express
URL:https://debtorsanonymous.org.uk/meeting/bda-kenya-express-group/2026-11-11/
CATEGORIES:Online Meetings
END:VEVENT
BEGIN:VEVENT
DTSTART;TZID=Europe/London:20261118T100000
DTEND;TZID=Europe/London:20261118T110000
DTSTAMP:20260423T235311
CREATED:20220227T142922Z
LAST-MODIFIED:20220227T142922Z
UID:53083-1794996000-1794999600@debtorsanonymous.org.uk
SUMMARY:BDA Kenya Express Group (Online)
DESCRIPTION:JOIN ZOOM MEETING \nMeeting ID: 941 9522 4867\nPasscode: Express
URL:https://debtorsanonymous.org.uk/meeting/bda-kenya-express-group/2026-11-18/
CATEGORIES:Online Meetings
END:VEVENT
END:VCALENDAR